BEGIN:VCALENDAR
VERSION:2.0
PRODID:-//Portal Empreendedor - ECPv6.9.0//NONSGML v1.0//EN
CALSCALE:GREGORIAN
METHOD:PUBLISH
X-ORIGINAL-URL:https://empreendedor.com.br
X-WR-CALDESC:Eventos para Portal Empreendedor
REFRESH-INTERVAL;VALUE=DURATION:PT1H
X-Robots-Tag:noindex
X-PUBLISHED-TTL:PT1H
BEGIN:VTIMEZONE
TZID:America/Sao_Paulo
BEGIN:STANDARD
TZOFFSETFROM:-0300
TZOFFSETTO:-0300
TZNAME:-03
DTSTART:20230101T000000
END:STANDARD
END:VTIMEZONE
BEGIN:VEVENT
DTSTART;VALUE=DATE:20230119
DTEND;VALUE=DATE:20230120
DTSTAMP:20260421T150706
CREATED:20230620T142310Z
LAST-MODIFIED:20230620T142310Z
UID:147308-1674086400-1674172799@empreendedor.com.br
SUMMARY:ABERJE STARTS - Governança\, Estrutura e Funcionamento da Nossa Rede Associativa
DESCRIPTION:
URL:https://empreendedor.com.br/evento/aberje-starts-governanca-estrutura-e-funcionamento-da-nossa-rede-associativa/
LOCATION:Online\, São Paulo\, São Paulo\, Brazil
END:VEVENT
END:VCALENDAR