BEGIN:VCALENDAR
VERSION:2.0
PRODID:-//Portal Empreendedor - ECPv6.9.0//NONSGML v1.0//EN
CALSCALE:GREGORIAN
METHOD:PUBLISH
X-WR-CALNAME:Portal Empreendedor
X-ORIGINAL-URL:https://empreendedor.com.br
X-WR-CALDESC:Eventos para Portal Empreendedor
REFRESH-INTERVAL;VALUE=DURATION:PT1H
X-Robots-Tag:noindex
X-PUBLISHED-TTL:PT1H
BEGIN:VTIMEZONE
TZID:America/Sao_Paulo
BEGIN:STANDARD
TZOFFSETFROM:-0300
TZOFFSETTO:-0300
TZNAME:-03
DTSTART:20230101T000000
END:STANDARD
END:VTIMEZONE
BEGIN:VEVENT
DTSTART;TZID=America/Sao_Paulo:20230531T080000
DTEND;TZID=America/Sao_Paulo:20230601T170000
DTSTAMP:20260421T083343
CREATED:20230926T155741Z
LAST-MODIFIED:20230926T155741Z
UID:151751-1685520000-1685638800@empreendedor.com.br
SUMMARY:Feira EBS - Evento Business Show
DESCRIPTION:
URL:https://empreendedor.com.br/evento/feira-ebs-evento-business-show/
LOCATION:Centro de Convenções Rebouças\, São Paulo\, São Paulo\, Brasil
END:VEVENT
BEGIN:VEVENT
DTSTART;VALUE=DATE:20230601
DTEND;VALUE=DATE:20230604
DTSTAMP:20260421T083343
CREATED:20230613T192931Z
LAST-MODIFIED:20230613T192931Z
UID:146673-1685577600-1685836799@empreendedor.com.br
SUMMARY:Obsessão em Negócios (MasterMind da Capital Upgrade)
DESCRIPTION:O Obsessão em Negócios é o MasterMind da Capital Upgrade. Um programa onde empresários de carreiras e empresas já consolidadas formam um grupo seleto e exclusivo para compartilhar conhecimentos e experiências buscando evolução juntos.
URL:https://empreendedor.com.br/evento/obsessao-em-negocios-mastermind-da-capital-upgrade/
LOCATION:São Paulo\, São Paulo\, Brazil
END:VEVENT
END:VCALENDAR