BEGIN:VCALENDAR
VERSION:2.0
PRODID:-//Portal Empreendedor - ECPv6.9.0//NONSGML v1.0//EN
CALSCALE:GREGORIAN
METHOD:PUBLISH
X-WR-CALNAME:Portal Empreendedor
X-ORIGINAL-URL:https://empreendedor.com.br
X-WR-CALDESC:Eventos para Portal Empreendedor
REFRESH-INTERVAL;VALUE=DURATION:PT1H
X-Robots-Tag:noindex
X-PUBLISHED-TTL:PT1H
BEGIN:VTIMEZONE
TZID:America/Sao_Paulo
BEGIN:STANDARD
TZOFFSETFROM:-0300
TZOFFSETTO:-0300
TZNAME:-03
DTSTART:20230101T000000
END:STANDARD
END:VTIMEZONE
BEGIN:VEVENT
DTSTART;TZID=America/Sao_Paulo:20230628T073000
DTEND;TZID=America/Sao_Paulo:20230630T190000
DTSTAMP:20260421T062106
CREATED:20230703T233705Z
LAST-MODIFIED:20230703T233705Z
UID:148157-1687937400-1688151600@empreendedor.com.br
SUMMARY:FÓRUM EMPRESARIAL LIDE
DESCRIPTION:
URL:https://empreendedor.com.br/evento/forum-empresarial-lide/
LOCATION:Hotel Fairmont\, Av. Atlântica\, 4240 - Copacabana\, Rio de Janeiro - RJ\,\, Rio de Janeiro\, Rio de Janeiro\, 22070-002\, Brasil
ATTACH;FMTTYPE=image/jpeg:https://empreendedor.com.br/wp-content/uploads/2023/07/maxresdefault-1.jpg
END:VEVENT
BEGIN:VEVENT
DTSTART;TZID=America/Sao_Paulo:20230628T113000
DTEND;TZID=America/Sao_Paulo:20230701T210000
DTSTAMP:20260421T062106
CREATED:20230629T133312Z
LAST-MODIFIED:20230629T133312Z
UID:147784-1687951800-1688245200@empreendedor.com.br
SUMMARY:ABF Franchising Expo
DESCRIPTION:
URL:https://empreendedor.com.br/evento/abf-franchising-expo/
LOCATION:Expo Center Norte\, São Paulo\, São Paulo\, Brasil
ATTACH;FMTTYPE=image/png:https://empreendedor.com.br/wp-content/uploads/2023/06/Franchisingabf.png
END:VEVENT
BEGIN:VEVENT
DTSTART;VALUE=DATE:20230629
DTEND;VALUE=DATE:20230703
DTSTAMP:20260421T062106
CREATED:20230620T183451Z
LAST-MODIFIED:20230620T183451Z
UID:147325-1687996800-1688342399@empreendedor.com.br
SUMMARY:CONGRESSO DA ABRAJI
DESCRIPTION:
URL:https://empreendedor.com.br/evento/congresso-da-abraji/
LOCATION:ESPM\, São Paulo\, São Paulo\, Brasil
END:VEVENT
BEGIN:VEVENT
DTSTART;TZID=America/Sao_Paulo:20230629T080000
DTEND;TZID=America/Sao_Paulo:20230701T170000
DTSTAMP:20260421T062106
CREATED:20230630T181110Z
LAST-MODIFIED:20230630T181110Z
UID:147979-1688025600-1688230800@empreendedor.com.br
SUMMARY:EXPOANEC 2023
DESCRIPTION:
URL:https://empreendedor.com.br/evento/expoanec-2023/
LOCATION:Centro de Convenções de Salvador\, Av. Octávio Mangabeira\, 5.490 - Boca do Rio\, Salvador - BA\, Salvador\, Bahia\, 41706-690\, Brasil
END:VEVENT
BEGIN:VEVENT
DTSTART;TZID=America/Sao_Paulo:20230629T080000
DTEND;TZID=America/Sao_Paulo:20230701T200000
DTSTAMP:20260421T062106
CREATED:20230629T173236Z
LAST-MODIFIED:20230629T173236Z
UID:147887-1688025600-1688241600@empreendedor.com.br
SUMMARY:Conversão Extrema ao Vivo (São Paulo)
DESCRIPTION:
URL:https://empreendedor.com.br/evento/conversao-extrema-ao-vivo-sao-paulo/
LOCATION:Palácio das Convenções – Distrito Anhembi\, Av. Olavo Fontoura\, 1209 - Santana\, São Paulo - SP\, São Paulo\, São Paulo\, 02012-021\, Brasil
END:VEVENT
BEGIN:VEVENT
DTSTART;TZID=America/Sao_Paulo:20230629T090000
DTEND;TZID=America/Sao_Paulo:20230630T180000
DTSTAMP:20260421T062106
CREATED:20230628T180417Z
LAST-MODIFIED:20230628T180417Z
UID:147720-1688029200-1688148000@empreendedor.com.br
SUMMARY:SPES - Seminário de Planejamento Estratégico Sustentável do Poder Judiciário 2023
DESCRIPTION:
URL:https://empreendedor.com.br/evento/spes-seminario-de-planejamento-estrategico-sustentavel-do-poder-judiciario-2023/
LOCATION:Online\, São Paulo\, São Paulo\, Brazil
ATTACH;FMTTYPE=image/jpeg:https://empreendedor.com.br/wp-content/uploads/2023/06/maxresdefault-1-1.jpg
END:VEVENT
BEGIN:VEVENT
DTSTART;TZID=America/Sao_Paulo:20230630T080000
DTEND;TZID=America/Sao_Paulo:20230630T220000
DTSTAMP:20260421T062106
CREATED:20230704T161410Z
LAST-MODIFIED:20230704T161410Z
UID:148265-1688112000-1688162400@empreendedor.com.br
SUMMARY:HW Experience Brasil (Brasília)
DESCRIPTION:
URL:https://empreendedor.com.br/evento/hw-experience-brasil-brasilia/
LOCATION:Centro de Eventos e Convenções Brasil 21\, SHS: Quadra 06\, Complexo Brasil 21\, SHIGS 713 Bl. A\, 501 - Asa Sul - D\, Brasília\, Distrito Federal
END:VEVENT
BEGIN:VEVENT
DTSTART;TZID=America/Sao_Paulo:20230630T090000
DTEND;TZID=America/Sao_Paulo:20230630T163000
DTSTAMP:20260421T062106
CREATED:20230705T154109Z
LAST-MODIFIED:20230705T154109Z
UID:148467-1688115600-1688142600@empreendedor.com.br
SUMMARY:Taquara Summit 2023
DESCRIPTION:O Taquara Summit é o maior evento de inovação\, criatividade e governança do Vale do Paranhana. Reunirá nomes de destaque para refletir sobre o cenário atual e falar de tendências. É no dia 30 de junho\, no Centro de Eventos da Faccat. Não fique de fora!
URL:https://empreendedor.com.br/evento/taquara-summit-2023/
LOCATION:Centro de Eventos da Faccat\, Avenida Oscar Martins Rangel\, 4500 Fogão Gaúcho Taquara\, RS\, Taquara\, Rio Grande do Sul\, Brasil
ATTACH;FMTTYPE=image/jpeg:https://empreendedor.com.br/wp-content/uploads/2023/07/646c1e89cf44f.jpeg
END:VEVENT
BEGIN:VEVENT
DTSTART;TZID=America/Sao_Paulo:20230630T090000
DTEND;TZID=America/Sao_Paulo:20230630T190000
DTSTAMP:20260421T062106
CREATED:20230627T170136Z
LAST-MODIFIED:20230627T170151Z
UID:147555-1688115600-1688151600@empreendedor.com.br
SUMMARY:Corporate Venture Summit
DESCRIPTION:Bem-vindo ao Minas Summit\, o evento mais aguardado do ano para empreendedores\, investidores e startups de Minas Gerais! Nossa missão é inspirar\, conectar e capacitar a comunidade empreendedora do estado
URL:https://empreendedor.com.br/evento/corporate-venture-summit/
LOCATION:Minascentro\, Belo Horizonte\, Av. Augusto de Lima\, 785 - Centro\, Belo Horizonte - MG\, Belo Horizonte\, Minas Gerais\, 30190-001\, Brasil
ATTACH;FMTTYPE=image/png:https://empreendedor.com.br/wp-content/uploads/2023/06/6414ad1836727-lg.png
END:VEVENT
END:VCALENDAR