BEGIN:VCALENDAR
VERSION:2.0
PRODID:-//Portal Empreendedor - ECPv6.9.0//NONSGML v1.0//EN
CALSCALE:GREGORIAN
METHOD:PUBLISH
X-WR-CALNAME:Portal Empreendedor
X-ORIGINAL-URL:https://empreendedor.com.br
X-WR-CALDESC:Eventos para Portal Empreendedor
REFRESH-INTERVAL;VALUE=DURATION:PT1H
X-Robots-Tag:noindex
X-PUBLISHED-TTL:PT1H
BEGIN:VTIMEZONE
TZID:America/Sao_Paulo
BEGIN:STANDARD
TZOFFSETFROM:-0300
TZOFFSETTO:-0300
TZNAME:-03
DTSTART:20230101T000000
END:STANDARD
END:VTIMEZONE
BEGIN:VEVENT
DTSTART;TZID=America/Sao_Paulo:20230703T080000
DTEND;TZID=America/Sao_Paulo:20230704T170000
DTSTAMP:20260421T071704
CREATED:20230613T194236Z
LAST-MODIFIED:20230613T194236Z
UID:146676-1688371200-1688490000@empreendedor.com.br
SUMMARY:Festival ABCR
DESCRIPTION:O Festival ABCR 2023 será realizado entre os dias 03 e 04 de julho\, em São Paulo\, com mais de 50 palestras e 5 eixos temáticos\, montagem do seu próprio programa\, mentorias\, expositores e etc;
URL:https://empreendedor.com.br/evento/festival-abcr/
LOCATION:Centro de Convenções Frei Caneca\, São Paulo\, São Paulo\, Brasil
END:VEVENT
BEGIN:VEVENT
DTSTART;TZID=America/Sao_Paulo:20230704T083000
DTEND;TZID=America/Sao_Paulo:20230704T210000
DTSTAMP:20260421T071704
CREATED:20230613T200233Z
LAST-MODIFIED:20230704T152105Z
UID:146681-1688459400-1688504400@empreendedor.com.br
SUMMARY:Franchise B2B (Florianópolis)
DESCRIPTION:Uma feira de franquias para você aprender e empreender! \nEntrada 2kg de alimentos não perecíveis
URL:https://empreendedor.com.br/evento/franchise-b2b/
LOCATION:Kennedy Executive\, R. MARIA BERNARDINA VAZ BORGES\, S/N - KOBRASOL\, Florianópolis\, Santa Catarina\, Brasil
END:VEVENT
BEGIN:VEVENT
DTSTART;TZID=America/Sao_Paulo:20230704T083000
DTEND;TZID=America/Sao_Paulo:20230704T210000
DTSTAMP:20260421T071704
CREATED:20230704T152916Z
LAST-MODIFIED:20230704T152916Z
UID:148220-1688459400-1688504400@empreendedor.com.br
SUMMARY:Franchise B2B (Londrina)
DESCRIPTION:Uma feira de franquias para você aprender e empreender! \nEntrada 2kg de alimentos não perecíveis
URL:https://empreendedor.com.br/evento/franchise-b2b-londrina/
LOCATION:Sumatra Hotel\, R. SEN. SOUZA NAVES\, 803 - CENTRO\, Londrina\, Paraná
END:VEVENT
BEGIN:VEVENT
DTSTART;TZID=America/Sao_Paulo:20230704T180000
DTEND;TZID=America/Sao_Paulo:20230704T230000
DTSTAMP:20260421T071704
CREATED:20230703T223723Z
LAST-MODIFIED:20230703T223737Z
UID:148116-1688493600-1688511600@empreendedor.com.br
SUMMARY:Fazendo a Diferença: Fórum de Alta Performance
DESCRIPTION:O Fazendo a Diferença é um evento para líderes que estão dispostos a acessar um conteúdo de alto nível e criar uma visão clara do que é preciso para mudar o status quo.  Selecionamos um time de craques para inspirar líderes de negócios.
URL:https://empreendedor.com.br/evento/fazendo-a-diferenca-forum-de-alta-performance/
LOCATION:Hotel Pullman Vila Olímpica\, Rua Olimpíadas\, 205 Vila Olímpia São Paulo\, SP\, São Paulo\, São Paulo\, Brasil
ATTACH;FMTTYPE=image/png:https://empreendedor.com.br/wp-content/uploads/2023/07/645a4b5e6a062-lg.png
END:VEVENT
END:VCALENDAR