BEGIN:VCALENDAR
VERSION:2.0
PRODID:-//Portal Empreendedor - ECPv6.9.0//NONSGML v1.0//EN
CALSCALE:GREGORIAN
METHOD:PUBLISH
X-ORIGINAL-URL:https://empreendedor.com.br
X-WR-CALDESC:Eventos para Portal Empreendedor
REFRESH-INTERVAL;VALUE=DURATION:PT1H
X-Robots-Tag:noindex
X-PUBLISHED-TTL:PT1H
BEGIN:VTIMEZONE
TZID:America/Sao_Paulo
BEGIN:STANDARD
TZOFFSETFROM:-0300
TZOFFSETTO:-0300
TZNAME:-03
DTSTART:20230101T000000
END:STANDARD
END:VTIMEZONE
BEGIN:VEVENT
DTSTART;TZID=America/Sao_Paulo:20230707T080000
DTEND;TZID=America/Sao_Paulo:20230709T170000
DTSTAMP:20260421T072134
CREATED:20230705T160057Z
LAST-MODIFIED:20230705T160057Z
UID:148483-1688716800-1688922000@empreendedor.com.br
SUMMARY:VidCon São Paulo 2023
DESCRIPTION:
URL:https://empreendedor.com.br/evento/vidcon-sao-paulo-2023/
LOCATION:São Paulo Expo Exhibition & Convention Center\, São Paulo\, São Paulo\, Brasil
END:VEVENT
BEGIN:VEVENT
DTSTART;TZID=America/Sao_Paulo:20230708T080000
DTEND;TZID=America/Sao_Paulo:20230709T170000
DTSTAMP:20260421T072134
CREATED:20230703T225546Z
LAST-MODIFIED:20230703T225546Z
UID:148131-1688803200-1688922000@empreendedor.com.br
SUMMARY:Feira Das Deusas (Praça Lions) (Julho)
DESCRIPTION:
URL:https://empreendedor.com.br/evento/feira-das-deusas-praca-lions-julho/
LOCATION:Praça Lions\, São Paulo\, São Paulo\, Brasil
END:VEVENT
END:VCALENDAR