BEGIN:VCALENDAR
VERSION:2.0
PRODID:-//Portal Empreendedor - ECPv6.9.0//NONSGML v1.0//EN
CALSCALE:GREGORIAN
METHOD:PUBLISH
X-ORIGINAL-URL:https://empreendedor.com.br
X-WR-CALDESC:Eventos para Portal Empreendedor
REFRESH-INTERVAL;VALUE=DURATION:PT1H
X-Robots-Tag:noindex
X-PUBLISHED-TTL:PT1H
BEGIN:VTIMEZONE
TZID:America/Sao_Paulo
BEGIN:STANDARD
TZOFFSETFROM:-0300
TZOFFSETTO:-0300
TZNAME:-03
DTSTART:20230101T000000
END:STANDARD
END:VTIMEZONE
BEGIN:VEVENT
DTSTART;TZID=America/Sao_Paulo:20230712T080000
DTEND;TZID=America/Sao_Paulo:20230712T170000
DTSTAMP:20260421T045337
CREATED:20230704T183814Z
LAST-MODIFIED:20230704T183814Z
UID:148371-1689148800-1689181200@empreendedor.com.br
SUMMARY:Planet Franchise Uberlândia (Digital / Julho)
DESCRIPTION:
URL:https://empreendedor.com.br/evento/planet-franchise-uberlandia-digital-julho/
LOCATION:Online\, São Paulo\, São Paulo\, Brazil
END:VEVENT
BEGIN:VEVENT
DTSTART;TZID=America/Sao_Paulo:20230712T080000
DTEND;TZID=America/Sao_Paulo:20230712T170000
DTSTAMP:20260421T045337
CREATED:20230704T192105Z
LAST-MODIFIED:20230704T192105Z
UID:148422-1689148800-1689181200@empreendedor.com.br
SUMMARY:Rodada de Negócios Virtual - Sebrae SP e X por Y
DESCRIPTION:
URL:https://empreendedor.com.br/evento/rodada-de-negocios-virtual-sebrae-sp-e-x-por-y/
LOCATION:Online\, São Paulo\, São Paulo\, Brazil
END:VEVENT
BEGIN:VEVENT
DTSTART;TZID=America/Sao_Paulo:20230712T080000
DTEND;TZID=America/Sao_Paulo:20230712T170000
DTSTAMP:20260421T045338
CREATED:20230705T152945Z
LAST-MODIFIED:20230705T152945Z
UID:148453-1689148800-1689181200@empreendedor.com.br
SUMMARY:Superlógica Next 2023 (Belo Horizonte)
DESCRIPTION:
URL:https://empreendedor.com.br/evento/superlogica-next-2023-belo-horizonte/
LOCATION:Hotel Mercure Lourdes\, Belo Horizonte\, Minas Gerais\, Brasil
END:VEVENT
END:VCALENDAR