BEGIN:VCALENDAR
VERSION:2.0
PRODID:-//Portal Empreendedor - ECPv6.9.0//NONSGML v1.0//EN
CALSCALE:GREGORIAN
METHOD:PUBLISH
X-ORIGINAL-URL:https://empreendedor.com.br
X-WR-CALDESC:Eventos para Portal Empreendedor
REFRESH-INTERVAL;VALUE=DURATION:PT1H
X-Robots-Tag:noindex
X-PUBLISHED-TTL:PT1H
BEGIN:VTIMEZONE
TZID:America/Sao_Paulo
BEGIN:STANDARD
TZOFFSETFROM:-0300
TZOFFSETTO:-0300
TZNAME:-03
DTSTART:20230101T000000
END:STANDARD
END:VTIMEZONE
BEGIN:VEVENT
DTSTART;TZID=America/Sao_Paulo:20230713T080000
DTEND;TZID=America/Sao_Paulo:20230714T170000
DTSTAMP:20260421T062251
CREATED:20230627T181611Z
LAST-MODIFIED:20230627T181737Z
UID:147593-1689235200-1689354000@empreendedor.com.br
SUMMARY:EXPOCARH - Exposição Catarinense de Recursos Humanos 2023
DESCRIPTION:
URL:https://empreendedor.com.br/evento/expo-abrh-am/
LOCATION:Centrosul – Centro de Convenções de Florianópolis\, Florianópolis\, Santa Catarina\, Brasil
ATTACH;FMTTYPE=image/jpeg:https://empreendedor.com.br/wp-content/uploads/2023/06/M_620fbf122698e2a.jpg
END:VEVENT
BEGIN:VEVENT
DTSTART;TZID=America/Sao_Paulo:20230714T080000
DTEND;TZID=America/Sao_Paulo:20230714T170000
DTSTAMP:20260421T062251
CREATED:20230628T185401Z
LAST-MODIFIED:20230628T185401Z
UID:147736-1689321600-1689354000@empreendedor.com.br
SUMMARY:The Global Leadership Summit Brasil (Summit Salvador/BA)
DESCRIPTION:
URL:https://empreendedor.com.br/evento/the-global-leadership-summit-brasil-summit-salvador-ba/
LOCATION:Igreja Batista Sinai\, R. Prof. Artur Mendes de Águiar\, 48 - Barbalho\, Salvador - BA\, Salvador\, Bahia\, 40301-150\, Brasil
END:VEVENT
BEGIN:VEVENT
DTSTART;TZID=America/Sao_Paulo:20230714T080000
DTEND;TZID=America/Sao_Paulo:20230714T220000
DTSTAMP:20260421T062251
CREATED:20230704T162546Z
LAST-MODIFIED:20230704T162546Z
UID:148282-1689321600-1689372000@empreendedor.com.br
SUMMARY:HW Experience Brasil (São Paulo)
DESCRIPTION:
URL:https://empreendedor.com.br/evento/hw-experience-brasil-sao-paulo/
LOCATION:Novotel São Paulo Berrini\, Rua Henri Dunant\, 792 – 04709-110 São Paulo - SP\, São Paulo\, São Paulo\, Brasil
END:VEVENT
BEGIN:VEVENT
DTSTART;TZID=America/Sao_Paulo:20230714T080000
DTEND;TZID=America/Sao_Paulo:20230715T170000
DTSTAMP:20260421T062251
CREATED:20230629T174233Z
LAST-MODIFIED:20230629T174233Z
UID:147895-1689321600-1689440400@empreendedor.com.br
SUMMARY:ECOM Summit 2023
DESCRIPTION:
URL:https://empreendedor.com.br/evento/ecom-summit-2023/
LOCATION:São Paulo\, São Paulo\, Brazil
END:VEVENT
END:VCALENDAR