BEGIN:VCALENDAR
VERSION:2.0
PRODID:-//Portal Empreendedor - ECPv6.9.0//NONSGML v1.0//EN
CALSCALE:GREGORIAN
METHOD:PUBLISH
X-ORIGINAL-URL:https://empreendedor.com.br
X-WR-CALDESC:Eventos para Portal Empreendedor
REFRESH-INTERVAL;VALUE=DURATION:PT1H
X-Robots-Tag:noindex
X-PUBLISHED-TTL:PT1H
BEGIN:VTIMEZONE
TZID:America/Sao_Paulo
BEGIN:STANDARD
TZOFFSETFROM:-0300
TZOFFSETTO:-0300
TZNAME:-03
DTSTART:20230101T000000
END:STANDARD
END:VTIMEZONE
BEGIN:VEVENT
DTSTART;TZID=America/Sao_Paulo:20230715T080000
DTEND;TZID=America/Sao_Paulo:20230716T170000
DTSTAMP:20260421T072015
CREATED:20230704T174950Z
LAST-MODIFIED:20230704T174950Z
UID:148330-1689408000-1689526800@empreendedor.com.br
SUMMARY:Mulher Brilhante Nacional 2023 (Recife)
DESCRIPTION:
URL:https://empreendedor.com.br/evento/mulher-brilhante-nacional-2023-recife/
LOCATION:Mar Hotel Conventions\, R. Barão de Souza Leão\, 451 - Boa Viagem\, Recife\, Recife\, Pernambuco\, Brasil
ATTACH;FMTTYPE=image/jpeg:https://empreendedor.com.br/wp-content/uploads/2023/07/6391e41875a16-cover.jpg
END:VEVENT
END:VCALENDAR