BEGIN:VCALENDAR
VERSION:2.0
PRODID:-//Portal Empreendedor - ECPv6.9.0//NONSGML v1.0//EN
CALSCALE:GREGORIAN
METHOD:PUBLISH
X-WR-CALNAME:Portal Empreendedor
X-ORIGINAL-URL:https://empreendedor.com.br
X-WR-CALDESC:Eventos para Portal Empreendedor
REFRESH-INTERVAL;VALUE=DURATION:PT1H
X-Robots-Tag:noindex
X-PUBLISHED-TTL:PT1H
BEGIN:VTIMEZONE
TZID:America/Sao_Paulo
BEGIN:STANDARD
TZOFFSETFROM:-0300
TZOFFSETTO:-0300
TZNAME:-03
DTSTART:20230101T000000
END:STANDARD
END:VTIMEZONE
BEGIN:VEVENT
DTSTART;TZID=America/Sao_Paulo:20230719T080000
DTEND;TZID=America/Sao_Paulo:20230719T170000
DTSTAMP:20260421T071748
CREATED:20230629T180507Z
LAST-MODIFIED:20230629T180507Z
UID:147901-1689753600-1689786000@empreendedor.com.br
SUMMARY:ENEB 2023 - Evento Nacional Enactus Brasil
DESCRIPTION:
URL:https://empreendedor.com.br/evento/eneb-2023-evento-nacional-enactus-brasil/
LOCATION:Expo Center Norte\, São Paulo\, São Paulo\, Brasil
END:VEVENT
BEGIN:VEVENT
DTSTART;TZID=America/Sao_Paulo:20230719T080000
DTEND;TZID=America/Sao_Paulo:20230719T170000
DTSTAMP:20260421T071748
CREATED:20230704T193134Z
LAST-MODIFIED:20230704T193134Z
UID:148426-1689753600-1689786000@empreendedor.com.br
SUMMARY:SNESEB - Simpósio Nacional de Empreendedorismo Social Enactus Brasil
DESCRIPTION:
URL:https://empreendedor.com.br/evento/sneseb-simposio-nacional-de-empreendedorismo-social-enactus-brasil/
LOCATION:Expo Center Norte\, São Paulo\, São Paulo\, Brasil
END:VEVENT
BEGIN:VEVENT
DTSTART;TZID=America/Sao_Paulo:20230719T080000
DTEND;TZID=America/Sao_Paulo:20230719T220000
DTSTAMP:20260421T071748
CREATED:20230704T161433Z
LAST-MODIFIED:20230704T161433Z
UID:148266-1689753600-1689804000@empreendedor.com.br
SUMMARY:HW Experience Brasil (Curitiba)
DESCRIPTION:
URL:https://empreendedor.com.br/evento/hw-experience-brasil-curitiba/
LOCATION:Novotel Curitiba Batel\, Rua Dr. Pedrosa\, 288 – 80.420-120 – Curitiba - PR\, Curitiba\, Paraná\, Brasil
END:VEVENT
END:VCALENDAR