BEGIN:VCALENDAR
VERSION:2.0
PRODID:-//Portal Empreendedor - ECPv6.9.0//NONSGML v1.0//EN
CALSCALE:GREGORIAN
METHOD:PUBLISH
X-WR-CALNAME:Portal Empreendedor
X-ORIGINAL-URL:https://empreendedor.com.br
X-WR-CALDESC:Eventos para Portal Empreendedor
REFRESH-INTERVAL;VALUE=DURATION:PT1H
X-Robots-Tag:noindex
X-PUBLISHED-TTL:PT1H
BEGIN:VTIMEZONE
TZID:America/Sao_Paulo
BEGIN:STANDARD
TZOFFSETFROM:-0300
TZOFFSETTO:-0300
TZNAME:-03
DTSTART:20230101T000000
END:STANDARD
END:VTIMEZONE
BEGIN:VEVENT
DTSTART;TZID=America/Sao_Paulo:20230816T080000
DTEND;TZID=America/Sao_Paulo:20230817T170000
DTSTAMP:20260421T045315
CREATED:20230926T163405Z
LAST-MODIFIED:20230926T163405Z
UID:151786-1692172800-1692291600@empreendedor.com.br
SUMMARY:ANBIMA Summit 2023
DESCRIPTION:
URL:https://empreendedor.com.br/evento/anbima-summit-2023/
LOCATION:OCA – Parque do Ibirapuera\, São Paulo\, São Paulo\, Brasil
ATTACH;FMTTYPE=image/jpeg:https://empreendedor.com.br/wp-content/uploads/2023/09/WhatsApp-Image-2023-09-26-at-09.33.41.jpeg
END:VEVENT
BEGIN:VEVENT
DTSTART;TZID=America/Sao_Paulo:20230817T080000
DTEND;TZID=America/Sao_Paulo:20230817T170000
DTSTAMP:20260421T045315
CREATED:20230628T191832Z
LAST-MODIFIED:20230628T191832Z
UID:147758-1692259200-1692291600@empreendedor.com.br
SUMMARY:Troca Contábil (Joinville)
DESCRIPTION:
URL:https://empreendedor.com.br/evento/troca-contabil-joinville/
LOCATION:Joinville\, Santa Catarina\, Brasil
END:VEVENT
BEGIN:VEVENT
DTSTART;TZID=America/Sao_Paulo:20230817T080000
DTEND;TZID=America/Sao_Paulo:20230817T170000
DTSTAMP:20260421T045315
CREATED:20230926T155201Z
LAST-MODIFIED:20230926T155201Z
UID:151742-1692259200-1692291600@empreendedor.com.br
SUMMARY:Encontro das Lideranças da Propaganda (Beto Gonçalves)
DESCRIPTION:
URL:https://empreendedor.com.br/evento/encontro-das-liderancas-da-propaganda-beto-goncalves/
LOCATION:Vale dos Vinhedos\, Beto Gonçalves\, Rio Grande do Sul\, Brasil
END:VEVENT
BEGIN:VEVENT
DTSTART;TZID=America/Sao_Paulo:20230817T080000
DTEND;TZID=America/Sao_Paulo:20230817T170000
DTSTAMP:20260421T045315
CREATED:20230926T164359Z
LAST-MODIFIED:20230926T164359Z
UID:151800-1692259200-1692291600@empreendedor.com.br
SUMMARY:Aurum Summit 2023
DESCRIPTION:
URL:https://empreendedor.com.br/evento/aurum-summit-2023/
LOCATION:Estação São Paulo\, São Paulo\, São Paulo\, Brasil
END:VEVENT
BEGIN:VEVENT
DTSTART;TZID=America/Sao_Paulo:20230817T080000
DTEND;TZID=America/Sao_Paulo:20230819T170000
DTSTAMP:20260421T045315
CREATED:20230704T185736Z
LAST-MODIFIED:20230704T185736Z
UID:148388-1692259200-1692464400@empreendedor.com.br
SUMMARY:Reload 2023 (Governador Valadares)
DESCRIPTION:
URL:https://empreendedor.com.br/evento/reload-2023-governador-valadares/
LOCATION:Governador Valadares\, Governador Valadares\, Minas Gerais\, Brasil
END:VEVENT
BEGIN:VEVENT
DTSTART;TZID=America/Sao_Paulo:20230817T080000
DTEND;TZID=America/Sao_Paulo:20230820T170000
DTSTAMP:20260421T045315
CREATED:20230808T214855Z
LAST-MODIFIED:20230808T214855Z
UID:149616-1692259200-1692550800@empreendedor.com.br
SUMMARY:HackTown
DESCRIPTION:
URL:https://empreendedor.com.br/evento/hacktown/
LOCATION:Centro de Santa Rita do Sapucaí\, Minas Gerais\, Brasil
ATTACH;FMTTYPE=image/jpeg:https://empreendedor.com.br/wp-content/uploads/2023/08/643447cd79a68-lg.jpg
END:VEVENT
END:VCALENDAR