BEGIN:VCALENDAR
VERSION:2.0
PRODID:-//Portal Empreendedor - ECPv6.9.0//NONSGML v1.0//EN
CALSCALE:GREGORIAN
METHOD:PUBLISH
X-ORIGINAL-URL:https://empreendedor.com.br
X-WR-CALDESC:Eventos para Portal Empreendedor
REFRESH-INTERVAL;VALUE=DURATION:PT1H
X-Robots-Tag:noindex
X-PUBLISHED-TTL:PT1H
BEGIN:VTIMEZONE
TZID:America/Sao_Paulo
BEGIN:STANDARD
TZOFFSETFROM:-0300
TZOFFSETTO:-0300
TZNAME:-03
DTSTART:20230101T000000
END:STANDARD
END:VTIMEZONE
BEGIN:VEVENT
DTSTART;TZID=America/Sao_Paulo:20231016T080000
DTEND;TZID=America/Sao_Paulo:20231020T170000
DTSTAMP:20260419T093906
CREATED:20231007T145747Z
LAST-MODIFIED:20231007T145747Z
UID:152212-1697443200-1697821200@empreendedor.com.br
SUMMARY:Maratona Best Friday 2023
DESCRIPTION:
URL:https://empreendedor.com.br/evento/maratona-best-friday-2023/
LOCATION:Online\, São Paulo\, São Paulo\, Brazil
ATTACH;FMTTYPE=image/jpeg:https://empreendedor.com.br/wp-content/uploads/2023/10/WhatsApp-Image-2023-10-07-at-07.56.18.jpeg
END:VEVENT
BEGIN:VEVENT
DTSTART;TZID=America/Sao_Paulo:20231018T080000
DTEND;TZID=America/Sao_Paulo:20231020T170000
DTSTAMP:20260419T093906
CREATED:20231007T154108Z
LAST-MODIFIED:20231007T154108Z
UID:152244-1697616000-1697821200@empreendedor.com.br
SUMMARY:Seminário Internacional Universidade - Empresa da Baixada Santista
DESCRIPTION:
URL:https://empreendedor.com.br/evento/seminario-internacional-universidade-empresa-da-baixada-santista/
LOCATION:Anfiteatro – Unisanta\, Santos\, São Paulo\, Brasil
END:VEVENT
BEGIN:VEVENT
DTSTART;TZID=America/Sao_Paulo:20231018T080000
DTEND;TZID=America/Sao_Paulo:20231022T170000
DTSTAMP:20260419T093906
CREATED:20231017T145924Z
LAST-MODIFIED:20231017T145924Z
UID:152506-1697616000-1697994000@empreendedor.com.br
SUMMARY:Encontro Anual do Balms Group International (BGI)
DESCRIPTION:
URL:https://empreendedor.com.br/evento/encontro-anual-do-balms-group-international-bgi/
LOCATION:Palácio Tangará\, São Paulo\, São Paulo\, Brasil
END:VEVENT
BEGIN:VEVENT
DTSTART;TZID=America/Sao_Paulo:20231019T080000
DTEND;TZID=America/Sao_Paulo:20231021T170000
DTSTAMP:20260419T093906
CREATED:20231007T162429Z
LAST-MODIFIED:20231007T162429Z
UID:152271-1697702400-1697907600@empreendedor.com.br
SUMMARY:CONAT 2023 - Congresso Nacional da Advocacia Trabalhista
DESCRIPTION:
URL:https://empreendedor.com.br/evento/conat-2023-congresso-nacional-da-advocacia-trabalhista/
LOCATION:Universidade Federal do Sul da Bahia\, Porto Seguro\, Bahia
END:VEVENT
BEGIN:VEVENT
DTSTART;TZID=America/Sao_Paulo:20231020T080000
DTEND;TZID=America/Sao_Paulo:20231020T170000
DTSTAMP:20260419T093906
CREATED:20230704T190856Z
LAST-MODIFIED:20230704T190856Z
UID:148408-1697788800-1697821200@empreendedor.com.br
SUMMARY:Reload 2023 (Teófilo Otoni)
DESCRIPTION:
URL:https://empreendedor.com.br/evento/reload-2023-teofilo-otoni/
LOCATION:Teófilo Otoni\, Teófilo Otoni\, Minas Gerais\, Brasil
END:VEVENT
BEGIN:VEVENT
DTSTART;TZID=America/Sao_Paulo:20231020T080000
DTEND;TZID=America/Sao_Paulo:20231020T170000
DTSTAMP:20260419T093906
CREATED:20231017T151233Z
LAST-MODIFIED:20231017T151233Z
UID:152509-1697788800-1697821200@empreendedor.com.br
SUMMARY:Fórum Liberdade e Demorcracia (São Paulo)
DESCRIPTION:
URL:https://empreendedor.com.br/evento/forum-liberdade-e-demorcracia-sao-paulo/
LOCATION:Teatro B32\, São Paulo\, São Paulo\, Brasil
END:VEVENT
BEGIN:VEVENT
DTSTART;TZID=America/Sao_Paulo:20231020T080000
DTEND;TZID=America/Sao_Paulo:20231020T170000
DTSTAMP:20260419T093906
CREATED:20231017T152324Z
LAST-MODIFIED:20231017T152324Z
UID:152516-1697788800-1697821200@empreendedor.com.br
SUMMARY:Seminário Reginal de Seguros: POA
DESCRIPTION:
URL:https://empreendedor.com.br/evento/seminario-reginal-de-seguros-poa/
LOCATION:Salão Nobre da Federasul\, Porto Alegre\, Rio Grande do Sul\, Brasil
END:VEVENT
BEGIN:VEVENT
DTSTART;TZID=America/Sao_Paulo:20231020T080000
DTEND;TZID=America/Sao_Paulo:20231020T183000
DTSTAMP:20260419T093906
CREATED:20230626T164934Z
LAST-MODIFIED:20230626T164934Z
UID:147459-1697788800-1697826600@empreendedor.com.br
SUMMARY:CONASEC - Conferência Nacional do Secretariado
DESCRIPTION:Promovido anualmente\, desde 2013\, pela Minder em parceria com a SEC Talentos Humanos\, a CONASEC – Conferência Nacional do Secretariado é o principal evento da área de secretariado do país.
URL:https://empreendedor.com.br/evento/conasec-conferencia-nacional-do-secretariado/
LOCATION:Blue Tree Premium Morumbi\, Av. Roque Petroni Júnior\, 1000 - Vila Gertrudes\, São Paulo - SP\, São Paulo\, São Paulo\, 04707-000\, Brasil
END:VEVENT
END:VCALENDAR