BEGIN:VCALENDAR
VERSION:2.0
PRODID:-//Portal Empreendedor - ECPv6.9.0//NONSGML v1.0//EN
CALSCALE:GREGORIAN
METHOD:PUBLISH
X-WR-CALNAME:Portal Empreendedor
X-ORIGINAL-URL:https://empreendedor.com.br
X-WR-CALDESC:Eventos para Portal Empreendedor
REFRESH-INTERVAL;VALUE=DURATION:PT1H
X-Robots-Tag:noindex
X-PUBLISHED-TTL:PT1H
BEGIN:VTIMEZONE
TZID:America/Sao_Paulo
BEGIN:STANDARD
TZOFFSETFROM:-0300
TZOFFSETTO:-0300
TZNAME:-03
DTSTART:20230101T000000
END:STANDARD
END:VTIMEZONE
BEGIN:VEVENT
DTSTART;TZID=America/Sao_Paulo:20230822T080000
DTEND;TZID=America/Sao_Paulo:20230824T170000
DTSTAMP:20260421T045448
CREATED:20230820T011947Z
LAST-MODIFIED:20230820T011947Z
UID:149901-1692691200-1692896400@empreendedor.com.br
SUMMARY:Logistique 2023
DESCRIPTION:
URL:https://empreendedor.com.br/evento/logistique-2023/
LOCATION:Centro de Convenções e Exposições Expoville\, Rua Quinze de Novembro\, 4315 - Glória\, Joinville - SC\, Joinville\, Santa Catarina\, Brasil
ATTACH;FMTTYPE=image/png:https://empreendedor.com.br/wp-content/uploads/2023/08/data_site.png
END:VEVENT
BEGIN:VEVENT
DTSTART;TZID=America/Sao_Paulo:20230822T080000
DTEND;TZID=America/Sao_Paulo:20230825T170000
DTSTAMP:20260421T045448
CREATED:20230821T143423Z
LAST-MODIFIED:20230821T143423Z
UID:149927-1692691200-1692982800@empreendedor.com.br
SUMMARY:DW! Tour Balneário Camboriú: O Maior Encontro do Design e Decoração em Santa Catarina
DESCRIPTION:Balneário Camboriú\, reconhecida pelo desenvolvimento imobiliário\, arranha-céus\, tecnologia e qualidade de vida\, será o epicentro do mundo do design e decoração de 22 a 25 de agosto de 2023\, com a DW! Tour. Este evento itinerante da DW! Semana de Design chega à cidade com uma proposta única: proporcionar uma vivência excepcional a entusiastas\, profissionais e amantes de decoração de alto padrão.
URL:https://empreendedor.com.br/evento/dw-tour-balneario-camboriu-o-maior-encontro-do-design-e-decoracao-em-santa-catarina/
LOCATION:Casahall Design District\, Av. do Estado Dalmo Vieira\, 4770\, Balneário Camboriú\, Santa Catarina\, Brasil
END:VEVENT
BEGIN:VEVENT
DTSTART;TZID=America/Sao_Paulo:20230823T080000
DTEND;TZID=America/Sao_Paulo:20230823T170000
DTSTAMP:20260421T045448
CREATED:20230704T182000Z
LAST-MODIFIED:20230704T182000Z
UID:148347-1692777600-1692810000@empreendedor.com.br
SUMMARY:Planet Franchise Belém (Digital / Agosto)
DESCRIPTION:
URL:https://empreendedor.com.br/evento/planet-franchise-belem-digital-agosto/
LOCATION:Online\, São Paulo\, São Paulo\, Brazil
END:VEVENT
BEGIN:VEVENT
DTSTART;TZID=America/Sao_Paulo:20230823T080000
DTEND;TZID=America/Sao_Paulo:20230823T170000
DTSTAMP:20260421T045448
CREATED:20230926T205827Z
LAST-MODIFIED:20230926T205827Z
UID:151857-1692777600-1692810000@empreendedor.com.br
SUMMARY:Conferência Estadual da Advocacia do Rio de Janeiro
DESCRIPTION:
URL:https://empreendedor.com.br/evento/conferencia-estadual-da-advocacia-do-rio-de-janeiro/
LOCATION:Marina da Glória\, Rio de Janeiro\, Brasil
END:VEVENT
BEGIN:VEVENT
DTSTART;TZID=America/Sao_Paulo:20230823T080000
DTEND;TZID=America/Sao_Paulo:20230823T170000
DTSTAMP:20260421T045448
CREATED:20231007T124903Z
LAST-MODIFIED:20231007T124903Z
UID:152159-1692777600-1692810000@empreendedor.com.br
SUMMARY:Congresso de Infovarejo CDL/BH 2023
DESCRIPTION:
URL:https://empreendedor.com.br/evento/congresso-de-infovarejo-cdl-bh-2023/
LOCATION:Minas Tênis Clube\, Belo Horizonte\, Minas Gerais\, Brasil
END:VEVENT
BEGIN:VEVENT
DTSTART;TZID=America/Sao_Paulo:20230823T080000
DTEND;TZID=America/Sao_Paulo:20230824T170000
DTSTAMP:20260421T045448
CREATED:20230704T170447Z
LAST-MODIFIED:20230704T170447Z
UID:148306-1692777600-1692896400@empreendedor.com.br
SUMMARY:LINCENSINGCON Marcas e Personagens
DESCRIPTION:
URL:https://empreendedor.com.br/evento/lincensingcon-marcas-e-personagens/
LOCATION:Vila dos Ipês\, Av. Mofarrej\, 1505 - Vila Leopoldina\, São Paulo - SP\, São Paulo\, São Paulo\, 05311-000\, Brasil
END:VEVENT
BEGIN:VEVENT
DTSTART;TZID=America/Sao_Paulo:20230823T080000
DTEND;TZID=America/Sao_Paulo:20230824T170000
DTSTAMP:20260421T045448
CREATED:20231003T211911Z
LAST-MODIFIED:20231003T211911Z
UID:152072-1692777600-1692896400@empreendedor.com.br
SUMMARY:Workshop - Construindo Relações Duradouras: Formação em Loyalty
DESCRIPTION:
URL:https://empreendedor.com.br/evento/workshop-construindo-relacoes-duradouras-formacao-em-loyalty/
LOCATION:Hotel Quality Paulista\, São Paulo\, São Paulo\, Brasil
ATTACH;FMTTYPE=image/jpeg:https://empreendedor.com.br/wp-content/uploads/2023/10/WhatsApp-Image-2023-10-03-at-14.18.42.jpeg
END:VEVENT
BEGIN:VEVENT
DTSTART;TZID=America/Sao_Paulo:20230823T100000
DTEND;TZID=America/Sao_Paulo:20230824T190000
DTSTAMP:20260421T045448
CREATED:20230630T175418Z
LAST-MODIFIED:20230630T175418Z
UID:147974-1692784800-1692903600@empreendedor.com.br
SUMMARY:Expo Licensing Brasil
DESCRIPTION:
URL:https://empreendedor.com.br/evento/expo-licensing-brasil/
LOCATION:Vila dos Ipês\, Av. Mofarrej\, 1505 - Vila Leopoldina\, São Paulo - SP\, São Paulo\, São Paulo\, 05311-000\, Brasil
END:VEVENT
BEGIN:VEVENT
DTSTART;TZID=America/Sao_Paulo:20230824T080000
DTEND;TZID=America/Sao_Paulo:20230826T220000
DTSTAMP:20260421T045448
CREATED:20230703T232236Z
LAST-MODIFIED:20230703T232236Z
UID:148146-1692864000-1693087200@empreendedor.com.br
SUMMARY:Fire Festival 2023
DESCRIPTION:O FIRE FESTIVAL é o evento obrigatório para quem quer fazer parte da maior comunidade do Marketing Digital\, Empreendedorismo e Inovação da América Latina.
URL:https://empreendedor.com.br/evento/fire-festival-2023/
LOCATION:Expominas – Belo Horizonte\, Belo Horizonte\, Minas Gerais\, Brasil
ATTACH;FMTTYPE=image/jpeg:https://empreendedor.com.br/wp-content/uploads/2023/07/a576416c5a0001a3950bfff2ce99f556.jpg
END:VEVENT
BEGIN:VEVENT
DTSTART;TZID=America/Sao_Paulo:20230824T120000
DTEND;TZID=America/Sao_Paulo:20230825T210000
DTSTAMP:20260421T045448
CREATED:20230627T154302Z
LAST-MODIFIED:20230627T154302Z
UID:147508-1692878400-1692997200@empreendedor.com.br
SUMMARY:Congresso Amazônico de Gente e Gestão (Congresso da ABRH-AM)
DESCRIPTION:O evento acontece todos os anos e é destinado para empresários\, lideranças\, profissionais de RH\, estudantes e interessados em conhecer mais sobre a área de recursos humanos. Simultaneamente com o CONAMARH\, será realizada a 20ª Expo ABRH Amazonas\, um espaço onde o público poderá visitar stands de empresas\, praça de alimentação\, etc.
URL:https://empreendedor.com.br/evento/congresso-amazonico-de-gente-e-gestao-congresso-da-abrh-am/
LOCATION:Centro de Convenções do Amazonas Vasco Vasques\, Av. Constantino Nery\, 5001 - Flores\, Manaus - AM\, Flores\, Manaus\, Amazonas\,\, Manaus\, Amazonas\, 69058-795
ATTACH;FMTTYPE=image/jpeg:https://empreendedor.com.br/wp-content/uploads/2023/06/6400dfed52c97-lg.jpg
END:VEVENT
BEGIN:VEVENT
DTSTART;TZID=America/Sao_Paulo:20230825T080000
DTEND;TZID=America/Sao_Paulo:20230825T170000
DTSTAMP:20260421T045448
CREATED:20230628T184504Z
LAST-MODIFIED:20230628T184504Z
UID:147729-1692950400-1692982800@empreendedor.com.br
SUMMARY:The Global Leadership Summit Brasil (Summit Belém/PA)
DESCRIPTION:
URL:https://empreendedor.com.br/evento/the-global-leadership-summit-brasil-summit-belem-pa/
LOCATION:Instituto AVIVA\, R. Florianópolis - Val-de-Caes\, Belém - PA\, Belém\, Pará\, 66613-010\, Brasil
END:VEVENT
BEGIN:VEVENT
DTSTART;TZID=America/Sao_Paulo:20230825T080000
DTEND;TZID=America/Sao_Paulo:20230825T170000
DTSTAMP:20260421T045448
CREATED:20230628T184745Z
LAST-MODIFIED:20230628T184745Z
UID:147732-1692950400-1692982800@empreendedor.com.br
SUMMARY:The Global Leadership Summit Brasil (Summit Brasília/DF)
DESCRIPTION:
URL:https://empreendedor.com.br/evento/the-global-leadership-summit-brasil-summit-brasilia-df/
LOCATION:Igreja Batista Koinonia\, Q. 103 - Águas Claras\, Brasília - DF\, Brasília\, Distrito Federal\, 71907-000\, Brasil
END:VEVENT
BEGIN:VEVENT
DTSTART;TZID=America/Sao_Paulo:20230825T080000
DTEND;TZID=America/Sao_Paulo:20230827T170000
DTSTAMP:20260421T045448
CREATED:20230703T224552Z
LAST-MODIFIED:20230703T224552Z
UID:148124-1692950400-1693155600@empreendedor.com.br
SUMMARY:FEIRA DA FRANQUIA (Belo Horizonte/Agosto)
DESCRIPTION:
URL:https://empreendedor.com.br/evento/feira-da-franquia-belo-horizonte-agosto/
LOCATION:BH Shopping\, BR-356\, 3049 - Belvedere\, Belo Horizonte - MG\, Belo Horizonte\, Minas Gerais\, 30320-900
END:VEVENT
BEGIN:VEVENT
DTSTART;TZID=America/Sao_Paulo:20230826T083000
DTEND;TZID=America/Sao_Paulo:20230826T210000
DTSTAMP:20260421T045448
CREATED:20230704T153417Z
LAST-MODIFIED:20230704T153417Z
UID:148229-1693038600-1693083600@empreendedor.com.br
SUMMARY:Franchise B2B (Maringá)
DESCRIPTION:Uma feira de franquias para você aprender e empreender! \nEntrada 2kg de alimentos não perecíveis
URL:https://empreendedor.com.br/evento/franchise-b2b-maringa/
LOCATION:Hotel Deville\, AV. HERVAL\, 26 - ZONA 01\, Maringá\, Paraná\, Brasil
END:VEVENT
BEGIN:VEVENT
DTSTART;TZID=America/Sao_Paulo:20230828T070000
DTEND;TZID=America/Sao_Paulo:20230831T230000
DTSTAMP:20260421T045448
CREATED:20230830T133534Z
LAST-MODIFIED:20230830T133534Z
UID:150820-1693206000-1693522800@empreendedor.com.br
SUMMARY:Marketing Elevation Summit
DESCRIPTION:No Marketing Elevation Summit 2023\, 16 líderes de Marketing compartilham ideias\, conceitos e insights que vão ferver sua mente. Evento imperdível para profissionais de Marketing\, Negócios\, Comunicação\, Branding e Empreendedores
URL:https://empreendedor.com.br/evento/marketing-elevation-summit/
LOCATION:Online\, São Paulo\, São Paulo\, Brazil
ATTACH;FMTTYPE=image/jpeg:https://empreendedor.com.br/wp-content/uploads/2023/08/MKT-Summit-Horizontal.jpg
END:VEVENT
BEGIN:VEVENT
DTSTART;TZID=America/Sao_Paulo:20230829T080000
DTEND;TZID=America/Sao_Paulo:20230831T170000
DTSTAMP:20260421T045448
CREATED:20230704T164734Z
LAST-MODIFIED:20230704T164734Z
UID:148295-1693296000-1693501200@empreendedor.com.br
SUMMARY:Insurtech Latam Fórum 2023
DESCRIPTION:Em sua quinta edição\, o evento já se destaca como um importante motor para impulsionar negócios e conexões\, e para visibilizar marcas e empresas destacadas nesse importante ecossistema Latam\, ligando os pontos e reunindo Seguradoras\, Distribuidores\, Provedores de Tecnologia e os maiores executivos e mentes mais brilhantes; além\, é claro\, de antecipar as tendências que prometem transformar esse setor por meio da composição de conteúdos e discussões relevantes para toda a cadeia internacional de Seguros.
URL:https://empreendedor.com.br/evento/insurtech-latam-forum-2023/
LOCATION:Um Rooftop / Fieldtrip\, São Paulo\, São Paulo\, Brasil
ATTACH;FMTTYPE=image/png:https://empreendedor.com.br/wp-content/uploads/2023/07/pt_opengraph_image.png
END:VEVENT
BEGIN:VEVENT
DTSTART;TZID=America/Sao_Paulo:20230830T080000
DTEND;TZID=America/Sao_Paulo:20230901T170000
DTSTAMP:20260421T045448
CREATED:20230926T210311Z
LAST-MODIFIED:20230926T210311Z
UID:151860-1693382400-1693587600@empreendedor.com.br
SUMMARY:Conferência Internacional Amazônia e Novas Economias
DESCRIPTION:
URL:https://empreendedor.com.br/evento/conferencia-internacional-amazonia-e-novas-economias/
LOCATION:Belém\, Pará
ATTACH;FMTTYPE=image/jpeg:https://empreendedor.com.br/wp-content/uploads/2023/09/WhatsApp-Image-2023-09-26-at-14.01.57.jpeg
END:VEVENT
BEGIN:VEVENT
DTSTART;TZID=America/Sao_Paulo:20230831T090000
DTEND;TZID=America/Sao_Paulo:20230831T200000
DTSTAMP:20260421T045448
CREATED:20230704T001707Z
LAST-MODIFIED:20230704T001707Z
UID:148174-1693472400-1693512000@empreendedor.com.br
SUMMARY:Franchise4U Fortaleza
DESCRIPTION:
URL:https://empreendedor.com.br/evento/franchise4u-fortaleza/
LOCATION:Hotel Gran Marquise\, Fortaleza\, Ceará\, Brasil
ATTACH;FMTTYPE=image/jpeg:https://empreendedor.com.br/wp-content/uploads/2023/07/1664810209557.jpg
END:VEVENT
BEGIN:VEVENT
DTSTART;TZID=America/Sao_Paulo:20230901T080000
DTEND;TZID=America/Sao_Paulo:20230902T170000
DTSTAMP:20260421T045448
CREATED:20230630T161818Z
LAST-MODIFIED:20230630T161818Z
UID:147945-1693555200-1693674000@empreendedor.com.br
SUMMARY:Expo Favela Innovation (Expofavela) (Ceará)
DESCRIPTION:
URL:https://empreendedor.com.br/evento/expo-favela-innovation-expofavela-ceara/
LOCATION:Fortaleza\, Ceara
END:VEVENT
BEGIN:VEVENT
DTSTART;TZID=America/Sao_Paulo:20230901T080000
DTEND;TZID=America/Sao_Paulo:20230902T170000
DTSTAMP:20260421T045448
CREATED:20230630T164021Z
LAST-MODIFIED:20230630T164021Z
UID:147966-1693555200-1693674000@empreendedor.com.br
SUMMARY:Expo Favela Innovation (Expofavela) (Rio Grande do Sul)
DESCRIPTION:
URL:https://empreendedor.com.br/evento/expo-favela-innovation-expofavela-rio-grande-do-sul/
LOCATION:Porto Alegre\, Rio Grande do Sul\, Brasil
END:VEVENT
BEGIN:VEVENT
DTSTART;TZID=America/Sao_Paulo:20230901T080000
DTEND;TZID=America/Sao_Paulo:20230903T170000
DTSTAMP:20260421T045448
CREATED:20230630T162123Z
LAST-MODIFIED:20230630T162123Z
UID:147948-1693555200-1693760400@empreendedor.com.br
SUMMARY:Expo Favela Innovation (Expofavela) (Distrito Federal)
DESCRIPTION:
URL:https://empreendedor.com.br/evento/expo-favela-innovation-expofavela-distrito-federal/
LOCATION:Brasilia\, Distrito Federal\, Brasil
END:VEVENT
BEGIN:VEVENT
DTSTART;TZID=America/Sao_Paulo:20230901T080000
DTEND;TZID=America/Sao_Paulo:20230903T170000
DTSTAMP:20260421T045448
CREATED:20230704T164207Z
LAST-MODIFIED:20230704T164207Z
UID:148292-1693555200-1693760400@empreendedor.com.br
SUMMARY:Inspira Mulher 2023
DESCRIPTION:A feira Inspira Mulher é o primeiro e maior evento de empreendedorismo voltado para o público feminino do sul do país. Com mais de 60 stands de expositores\, talk shows e palestrantes de renome nacional\, a feira é uma oportunidade para empreendedores aumentarem o network\, criarem laços e aprenderem com pessoas especializadas no ramo.
URL:https://empreendedor.com.br/evento/inspira-mulher-2023/
LOCATION:Centro de Cultura e Eventos Plínio Arlindo de Nes\, Chapecó\, Santa Catarina\, Brasil
END:VEVENT
BEGIN:VEVENT
DTSTART;TZID=America/Sao_Paulo:20230901T130000
DTEND;TZID=America/Sao_Paulo:20230901T200000
DTSTAMP:20260421T045448
CREATED:20230830T132956Z
LAST-MODIFIED:20230830T132956Z
UID:150818-1693573200-1693598400@empreendedor.com.br
SUMMARY:ENE - Encontro Nacional de Empreendedores
DESCRIPTION:
URL:https://empreendedor.com.br/evento/ene-encontro-nacional-de-empreendedores/
LOCATION:Cubo Itaú\, São Paulo\, São Paulo\, Brasil
END:VEVENT
BEGIN:VEVENT
DTSTART;TZID=America/Sao_Paulo:20230902T080000
DTEND;TZID=America/Sao_Paulo:20230902T170000
DTSTAMP:20260421T045448
CREATED:20230704T185730Z
LAST-MODIFIED:20230704T185730Z
UID:148389-1693641600-1693674000@empreendedor.com.br
SUMMARY:Reload 2023 (Itaúna)
DESCRIPTION:
URL:https://empreendedor.com.br/evento/reload-2023-itauna/
LOCATION:Itaúna\, Itaúna\, Minas Gerais\, Brasil
END:VEVENT
BEGIN:VEVENT
DTSTART;VALUE=DATE:20230904
DTEND;VALUE=DATE:20230909
DTSTAMP:20260421T045448
CREATED:20230620T144140Z
LAST-MODIFIED:20230620T144140Z
UID:147318-1693785600-1694217599@empreendedor.com.br
SUMMARY:Abrape Experience São Paulo
DESCRIPTION:
URL:https://empreendedor.com.br/evento/abrape-experience-sao-paulo/
LOCATION:São Paulo\, São Paulo\, Brazil
END:VEVENT
BEGIN:VEVENT
DTSTART;TZID=America/Sao_Paulo:20230904T080000
DTEND;TZID=America/Sao_Paulo:20230904T180000
DTSTAMP:20260421T045448
CREATED:20230703T233312Z
LAST-MODIFIED:20230703T233312Z
UID:148153-1693814400-1693850400@empreendedor.com.br
SUMMARY:Fórum de Inteligência e Compras Estratégicas do Brasil
DESCRIPTION:O maior fórum corporativo de compras do Brasil chega a capital paranaense para se conectar com novas oportunidades\, novos negócios e realizar muito networking entre compradores e empresários. 
URL:https://empreendedor.com.br/evento/forum-de-inteligencia-e-compras-estrategicas-do-brasil/
LOCATION:Campus da Indústria – Sistema Fiep\, Curitiba\, Paraná\, Brasil
ATTACH;FMTTYPE=image/png:https://empreendedor.com.br/wp-content/uploads/2023/07/6464c212f2cf2-lg.png
END:VEVENT
BEGIN:VEVENT
DTSTART;TZID=America/Sao_Paulo:20230904T080000
DTEND;TZID=America/Sao_Paulo:20230908T170000
DTSTAMP:20260421T045448
CREATED:20230622T164904Z
LAST-MODIFIED:20230622T164904Z
UID:147382-1693814400-1694192400@empreendedor.com.br
SUMMARY:INTERCOM 2023 - Congresso Brasileiro de Ciências da Comunicação
DESCRIPTION:20 anos após sediar o Intercom Nacional pela primeira vez\, em 2003\, a PUC Minas recebe novamente pesquisadores em comunicação de todo o Brasil neste que é o maior congresso de comunicação da América Latina. Com o tema “Comunicação e políticas científicas: desmonte e reconstrução”\,o 46º Congresso Brasileiro de Ciências da Comunicação será realizado remotamente entre os dias 29 e 31 de agosto e presencialmente de 5 a 8 de setembro de 2023\, no campus Coração Eucarístico\, em Belo Horizonte\, Minas Gerais.
URL:https://empreendedor.com.br/evento/intercom-2023-congresso-brasileiro-de-ciencias-da-comunicacao/
LOCATION:Pontifícia Universidade Católica de Minas Gerais\, Belo Horizonte\, Minas Gerais\, Brasil
END:VEVENT
BEGIN:VEVENT
DTSTART;TZID=America/Sao_Paulo:20230905T080000
DTEND;TZID=America/Sao_Paulo:20230905T170000
DTSTAMP:20260421T045448
CREATED:20230628T190518Z
LAST-MODIFIED:20230628T190518Z
UID:147748-1693900800-1693933200@empreendedor.com.br
SUMMARY:The Town Learning Journey by HSM
DESCRIPTION:
URL:https://empreendedor.com.br/evento/the-town-learning-journey-by-hsm/
LOCATION:Cidade da Música – Autódromo de Interlagos\, São Paulo\, São Paulo\, Brasil
END:VEVENT
BEGIN:VEVENT
DTSTART;TZID=America/Sao_Paulo:20230906T080000
DTEND;TZID=America/Sao_Paulo:20230906T170000
DTSTAMP:20260421T045448
CREATED:20230704T182005Z
LAST-MODIFIED:20230704T182005Z
UID:148346-1693987200-1694019600@empreendedor.com.br
SUMMARY:Planet Franchise Aracaju (Digital / Agosto)
DESCRIPTION:
URL:https://empreendedor.com.br/evento/planet-franchise-aracaju-digital-agosto/
LOCATION:Online\, São Paulo\, São Paulo\, Brazil
END:VEVENT
BEGIN:VEVENT
DTSTART;TZID=America/Sao_Paulo:20230912T080000
DTEND;TZID=America/Sao_Paulo:20230912T173000
DTSTAMP:20260421T045448
CREATED:20230628T153332Z
LAST-MODIFIED:20230628T153332Z
UID:147633-1694505600-1694539800@empreendedor.com.br
SUMMARY:Fórum Brasileiro de Fidelização 2023
DESCRIPTION:O 6º Fórum Brasileiro de Fidelização tem o intuito de proporcionar uma visão ampla e atual do mercado de fidelidade no Brasil e apresentará ao longo do dia\, palestras\, painéis sobre o status atual do mercado de fidelidade no Brasil e exterior\, o comportamento do consumidor pós pandemia\, oportunidades\, desafios\, potencial de crescimento e o impacto das novas tecnologias no nosso mercado.
URL:https://empreendedor.com.br/evento/forum-brasileiro-de-fidelizacao-2023/
LOCATION:Teatro WTC\, Av. das Nações Unidas\, 12551 - Brooklin Novo\, São Paulo\, São Paulo\, São Paulo\, Brasil
ATTACH;FMTTYPE=image/jpeg:https://empreendedor.com.br/wp-content/uploads/2023/06/1687373389950.jpg
END:VEVENT
END:VCALENDAR