BEGIN:VCALENDAR
VERSION:2.0
PRODID:-//Portal Empreendedor - ECPv6.9.0//NONSGML v1.0//EN
CALSCALE:GREGORIAN
METHOD:PUBLISH
X-WR-CALNAME:Portal Empreendedor
X-ORIGINAL-URL:https://empreendedor.com.br
X-WR-CALDESC:Eventos para Portal Empreendedor
REFRESH-INTERVAL;VALUE=DURATION:PT1H
X-Robots-Tag:noindex
X-PUBLISHED-TTL:PT1H
BEGIN:VTIMEZONE
TZID:America/Sao_Paulo
BEGIN:STANDARD
TZOFFSETFROM:-0300
TZOFFSETTO:-0300
TZNAME:-03
DTSTART:20230101T000000
END:STANDARD
END:VTIMEZONE
BEGIN:VEVENT
DTSTART;TZID=America/Sao_Paulo:20231016T080000
DTEND;TZID=America/Sao_Paulo:20231020T170000
DTSTAMP:20260421T073958
CREATED:20231007T145747Z
LAST-MODIFIED:20231007T145747Z
UID:152212-1697443200-1697821200@empreendedor.com.br
SUMMARY:Maratona Best Friday 2023
DESCRIPTION:
URL:https://empreendedor.com.br/evento/maratona-best-friday-2023/
LOCATION:Online\, São Paulo\, São Paulo\, Brazil
ATTACH;FMTTYPE=image/jpeg:https://empreendedor.com.br/wp-content/uploads/2023/10/WhatsApp-Image-2023-10-07-at-07.56.18.jpeg
END:VEVENT
BEGIN:VEVENT
DTSTART;TZID=America/Sao_Paulo:20231018T080000
DTEND;TZID=America/Sao_Paulo:20231020T170000
DTSTAMP:20260421T073958
CREATED:20231007T154108Z
LAST-MODIFIED:20231007T154108Z
UID:152244-1697616000-1697821200@empreendedor.com.br
SUMMARY:Seminário Internacional Universidade - Empresa da Baixada Santista
DESCRIPTION:
URL:https://empreendedor.com.br/evento/seminario-internacional-universidade-empresa-da-baixada-santista/
LOCATION:Anfiteatro – Unisanta\, Santos\, São Paulo\, Brasil
END:VEVENT
BEGIN:VEVENT
DTSTART;TZID=America/Sao_Paulo:20231018T080000
DTEND;TZID=America/Sao_Paulo:20231022T170000
DTSTAMP:20260421T073958
CREATED:20231017T145924Z
LAST-MODIFIED:20231017T145924Z
UID:152506-1697616000-1697994000@empreendedor.com.br
SUMMARY:Encontro Anual do Balms Group International (BGI)
DESCRIPTION:
URL:https://empreendedor.com.br/evento/encontro-anual-do-balms-group-international-bgi/
LOCATION:Palácio Tangará\, São Paulo\, São Paulo\, Brasil
END:VEVENT
BEGIN:VEVENT
DTSTART;TZID=America/Sao_Paulo:20231019T080000
DTEND;TZID=America/Sao_Paulo:20231021T170000
DTSTAMP:20260421T073958
CREATED:20231007T162429Z
LAST-MODIFIED:20231007T162429Z
UID:152271-1697702400-1697907600@empreendedor.com.br
SUMMARY:CONAT 2023 - Congresso Nacional da Advocacia Trabalhista
DESCRIPTION:
URL:https://empreendedor.com.br/evento/conat-2023-congresso-nacional-da-advocacia-trabalhista/
LOCATION:Universidade Federal do Sul da Bahia\, Porto Seguro\, Bahia
END:VEVENT
BEGIN:VEVENT
DTSTART;TZID=America/Sao_Paulo:20231020T080000
DTEND;TZID=America/Sao_Paulo:20231020T170000
DTSTAMP:20260421T073958
CREATED:20230704T190856Z
LAST-MODIFIED:20230704T190856Z
UID:148408-1697788800-1697821200@empreendedor.com.br
SUMMARY:Reload 2023 (Teófilo Otoni)
DESCRIPTION:
URL:https://empreendedor.com.br/evento/reload-2023-teofilo-otoni/
LOCATION:Teófilo Otoni\, Teófilo Otoni\, Minas Gerais\, Brasil
END:VEVENT
BEGIN:VEVENT
DTSTART;TZID=America/Sao_Paulo:20231020T080000
DTEND;TZID=America/Sao_Paulo:20231020T170000
DTSTAMP:20260421T073958
CREATED:20231017T151233Z
LAST-MODIFIED:20231017T151233Z
UID:152509-1697788800-1697821200@empreendedor.com.br
SUMMARY:Fórum Liberdade e Demorcracia (São Paulo)
DESCRIPTION:
URL:https://empreendedor.com.br/evento/forum-liberdade-e-demorcracia-sao-paulo/
LOCATION:Teatro B32\, São Paulo\, São Paulo\, Brasil
END:VEVENT
BEGIN:VEVENT
DTSTART;TZID=America/Sao_Paulo:20231020T080000
DTEND;TZID=America/Sao_Paulo:20231020T170000
DTSTAMP:20260421T073958
CREATED:20231017T152324Z
LAST-MODIFIED:20231017T152324Z
UID:152516-1697788800-1697821200@empreendedor.com.br
SUMMARY:Seminário Reginal de Seguros: POA
DESCRIPTION:
URL:https://empreendedor.com.br/evento/seminario-reginal-de-seguros-poa/
LOCATION:Salão Nobre da Federasul\, Porto Alegre\, Rio Grande do Sul\, Brasil
END:VEVENT
BEGIN:VEVENT
DTSTART;TZID=America/Sao_Paulo:20231020T080000
DTEND;TZID=America/Sao_Paulo:20231020T183000
DTSTAMP:20260421T073958
CREATED:20230626T164934Z
LAST-MODIFIED:20230626T164934Z
UID:147459-1697788800-1697826600@empreendedor.com.br
SUMMARY:CONASEC - Conferência Nacional do Secretariado
DESCRIPTION:Promovido anualmente\, desde 2013\, pela Minder em parceria com a SEC Talentos Humanos\, a CONASEC – Conferência Nacional do Secretariado é o principal evento da área de secretariado do país.
URL:https://empreendedor.com.br/evento/conasec-conferencia-nacional-do-secretariado/
LOCATION:Blue Tree Premium Morumbi\, Av. Roque Petroni Júnior\, 1000 - Vila Gertrudes\, São Paulo - SP\, São Paulo\, São Paulo\, 04707-000\, Brasil
END:VEVENT
BEGIN:VEVENT
DTSTART;TZID=America/Sao_Paulo:20231023T075000
DTEND;TZID=America/Sao_Paulo:20231024T190000
DTSTAMP:20260421T073958
CREATED:20230627T174927Z
LAST-MODIFIED:20230627T174927Z
UID:147584-1698047400-1698174000@empreendedor.com.br
SUMMARY:ESG Fórum
DESCRIPTION:O 3º ESG Fórum\, traz uma discussão madura e direta através da experiência de empresas com práticas avançadas\, especialistas renomados e muita inovação . \nOs desafios são imensos e se transformam em cada fase do processo\, esse evento traz soluções e caminhos para que o ESG seja implantado e aprimorado em sua organização aumentando a competitividade\, a lucratividade dos negócios e o impacto positivo na sociedade .
URL:https://empreendedor.com.br/evento/esg-forum/
LOCATION:Novotel Morumbi\, Rua Ministro Nelson Hungria\, 577 – São Paulo – SP – Brasil\, São Paulo\, São Paulo\, Brasil
END:VEVENT
BEGIN:VEVENT
DTSTART;TZID=America/Sao_Paulo:20231023T080000
DTEND;TZID=America/Sao_Paulo:20231023T170000
DTSTAMP:20260421T073958
CREATED:20230926T202433Z
LAST-MODIFIED:20230926T202433Z
UID:151810-1698048000-1698080400@empreendedor.com.br
SUMMARY:Bloomberg Línea Summit 2023
DESCRIPTION:
URL:https://empreendedor.com.br/evento/bloomberg-linea-summit-2023/
LOCATION:Hotel Rosewood São Paulo\, São Paulo\, São Paulo\, Brasil
END:VEVENT
BEGIN:VEVENT
DTSTART;TZID=America/Sao_Paulo:20231023T080000
DTEND;TZID=America/Sao_Paulo:20231023T170000
DTSTAMP:20260421T073958
CREATED:20230926T210506Z
LAST-MODIFIED:20230926T210506Z
UID:151865-1698048000-1698080400@empreendedor.com.br
SUMMARY:Conferência Mercado Financeiro
DESCRIPTION:
URL:https://empreendedor.com.br/evento/conferencia-mercado-financeiro/
LOCATION:São Paulo\, São Paulo\, Brazil
END:VEVENT
BEGIN:VEVENT
DTSTART;TZID=America/Sao_Paulo:20231023T080000
DTEND;TZID=America/Sao_Paulo:20231024T170000
DTSTAMP:20260421T073958
CREATED:20231007T142200Z
LAST-MODIFIED:20231007T142200Z
UID:152198-1698048000-1698166800@empreendedor.com.br
SUMMARY:Global Halal Brazil Business Fórum 2023
DESCRIPTION:
URL:https://empreendedor.com.br/evento/global-halal-brazil-business-forum-2023/
LOCATION:WTC\, São Paulo\, São Paulo\, Brasil
ATTACH;FMTTYPE=image/jpeg:https://empreendedor.com.br/wp-content/uploads/2023/10/WhatsApp-Image-2023-10-07-at-07.21.35.jpeg
END:VEVENT
BEGIN:VEVENT
DTSTART;TZID=America/Sao_Paulo:20231024T080000
DTEND;TZID=America/Sao_Paulo:20231024T170000
DTSTAMP:20260421T073958
CREATED:20230628T172210Z
LAST-MODIFIED:20230628T172210Z
UID:147688-1698134400-1698166800@empreendedor.com.br
SUMMARY:Speed Meeting 2023 - Rodadas de Negócios EBS (MICE BH)
DESCRIPTION:
URL:https://empreendedor.com.br/evento/speed-meeting-2023-rodadas-de-negocios-ebs-mice-bh/
LOCATION:Belo Horizonte\, Minas Gerais\, Brasil
END:VEVENT
BEGIN:VEVENT
DTSTART;TZID=America/Sao_Paulo:20231024T080000
DTEND;TZID=America/Sao_Paulo:20231024T170000
DTSTAMP:20260421T073958
CREATED:20230628T173725Z
LAST-MODIFIED:20230628T173725Z
UID:147707-1698134400-1698166800@empreendedor.com.br
SUMMARY:Speed Meeting 2023 - Rodadas de Negócios EBS (T&D BH)
DESCRIPTION:
URL:https://empreendedor.com.br/evento/speed-meeting-2023-rodadas-de-negocios-ebs-td-bh/
LOCATION:Belo Horizonte\, Minas Gerais\, Brasil
END:VEVENT
BEGIN:VEVENT
DTSTART;TZID=America/Sao_Paulo:20231024T080000
DTEND;TZID=America/Sao_Paulo:20231025T170000
DTSTAMP:20260421T073958
CREATED:20231007T131315Z
LAST-MODIFIED:20231007T131315Z
UID:152175-1698134400-1698253200@empreendedor.com.br
SUMMARY:CVINBRASIL - Corporate Venture In Brazil 2023
DESCRIPTION:
URL:https://empreendedor.com.br/evento/cvinbrasil-corporate-venture-in-brazil-2023/
LOCATION:Online\, São Paulo\, São Paulo\, Brazil
ATTACH;FMTTYPE=image/jpeg:https://empreendedor.com.br/wp-content/uploads/2023/10/WhatsApp-Image-2023-10-07-at-06.11.03.jpeg
END:VEVENT
BEGIN:VEVENT
DTSTART;TZID=America/Sao_Paulo:20231024T080000
DTEND;TZID=America/Sao_Paulo:20231028T170000
DTSTAMP:20260421T073958
CREATED:20231007T153706Z
LAST-MODIFIED:20231007T153706Z
UID:152240-1698134400-1698512400@empreendedor.com.br
SUMMARY:Semana da Indústria 2023
DESCRIPTION:
URL:https://empreendedor.com.br/evento/semana-da-industria-2023/
LOCATION:Sindicato das Indústrias de Calçados e Vestuário de Birigui\, Birigui\, São Paulo\, Brasil
ATTACH;FMTTYPE=image/jpeg:https://empreendedor.com.br/wp-content/uploads/2023/10/WhatsApp-Image-2023-10-07-at-08.36.18.jpeg
END:VEVENT
BEGIN:VEVENT
DTSTART;TZID=America/Sao_Paulo:20231024T083000
DTEND;TZID=America/Sao_Paulo:20231024T210000
DTSTAMP:20260421T073958
CREATED:20230704T153859Z
LAST-MODIFIED:20230704T153859Z
UID:148233-1698136200-1698181200@empreendedor.com.br
SUMMARY:Franchise B2B (Recife)
DESCRIPTION:Uma feira de franquias para você aprender e empreender! \nEntrada 2kg de alimentos não perecíveis
URL:https://empreendedor.com.br/evento/franchise-b2b-recife/
LOCATION:Mar Hotel Convention\, R. BARÃO DE SOUZA LEÃO\, 451 - BOA VIAGEM\, Recife\, Pernambuco
END:VEVENT
BEGIN:VEVENT
DTSTART;TZID=America/Sao_Paulo:20231025T080000
DTEND;TZID=America/Sao_Paulo:20231026T170000
DTSTAMP:20260421T073958
CREATED:20231007T120946Z
LAST-MODIFIED:20231007T120946Z
UID:152135-1698220800-1698339600@empreendedor.com.br
SUMMARY:Ademicon Summit 2023
DESCRIPTION:
URL:https://empreendedor.com.br/evento/ademicon-summit-2023/
LOCATION:Viasoft Experience (Antigo Expo Unimed Curitiba)\, Curitiba\, Paraná\, Brasil
ATTACH;FMTTYPE=image/jpeg:https://empreendedor.com.br/wp-content/uploads/2023/10/WhatsApp-Image-2023-10-07-at-05.09.14.jpeg
END:VEVENT
BEGIN:VEVENT
DTSTART;TZID=America/Sao_Paulo:20231025T080000
DTEND;TZID=America/Sao_Paulo:20231026T170000
DTSTAMP:20260421T073958
CREATED:20231007T130939Z
LAST-MODIFIED:20231007T130939Z
UID:152172-1698220800-1698339600@empreendedor.com.br
SUMMARY:CSX Week (Presencial)
DESCRIPTION:
URL:https://empreendedor.com.br/evento/csx-week-presencial/
LOCATION:Instituto Ricardo Brennand/ Porto Digital\, Recife\, Pernambuco\, Brasil
END:VEVENT
BEGIN:VEVENT
DTSTART;TZID=America/Sao_Paulo:20231025T080000
DTEND;TZID=America/Sao_Paulo:20231027T170000
DTSTAMP:20260421T073958
CREATED:20231017T151741Z
LAST-MODIFIED:20231017T151741Z
UID:152511-1698220800-1698426000@empreendedor.com.br
SUMMARY:Jornada de Debates sobre Contencioso Tributário Administrativo e Judicial
DESCRIPTION:
URL:https://empreendedor.com.br/evento/jornada-de-debates-sobre-contencioso-tributario-administrativo-e-judicial/
LOCATION:Associação dos Advogados de São Paulo\, São Paulo\, São Paulo\, Brasil
ATTACH;FMTTYPE=image/jpeg:https://empreendedor.com.br/wp-content/uploads/2023/10/WhatsApp-Image-2023-10-17-at-08.16.10.jpeg
END:VEVENT
BEGIN:VEVENT
DTSTART;TZID=America/Sao_Paulo:20231025T080000
DTEND;TZID=America/Sao_Paulo:20231029T170000
DTSTAMP:20260421T073958
CREATED:20230629T172656Z
LAST-MODIFIED:20230629T172656Z
UID:147883-1698220800-1698598800@empreendedor.com.br
SUMMARY:Convenção ABF do Franchising
DESCRIPTION:
URL:https://empreendedor.com.br/evento/convencao-abf-do-franchising/
LOCATION:Hotel Transamérica\, Ilha de Comandatuba\, s/n\, Una - BA\, Comandatuba\, Bahia\, 45690-000\, Brasil
ATTACH;FMTTYPE=image/jpeg:https://empreendedor.com.br/wp-content/uploads/2023/06/21-convencao-abf-1.jpg
END:VEVENT
BEGIN:VEVENT
DTSTART;TZID=America/Sao_Paulo:20231026T080000
DTEND;TZID=America/Sao_Paulo:20231026T170000
DTSTAMP:20260421T073958
CREATED:20230926T160459Z
LAST-MODIFIED:20230926T160459Z
UID:151756-1698307200-1698339600@empreendedor.com.br
SUMMARY:Fórum Mobile Marketing Brasil (MMB)
DESCRIPTION:Prepare-se para uma experiência única\, repleta de insights e oportunidades no universo mobile. \nParticipe do evento mais aguardado do setor e conecte-se com os principais players do mercado. \nCriado por RankMyApp\, o MMB tem a missão de reunir profissionais e especialistas para discutir as tendências\, desafios e oportunidades no cenário mobile\, através de palestras inspiradoras\, painéis de discussão\, cases de sucesso e muita troca de experiências.
URL:https://empreendedor.com.br/evento/forum-mobile-marketing-brasil-mmb/
LOCATION:São Paulo\, São Paulo\, Brazil
ATTACH;FMTTYPE=image/jpeg:https://empreendedor.com.br/wp-content/uploads/2023/09/WhatsApp-Image-2023-09-26-at-09.04.24.jpeg
END:VEVENT
BEGIN:VEVENT
DTSTART;TZID=America/Sao_Paulo:20231026T080000
DTEND;TZID=America/Sao_Paulo:20231026T170000
DTSTAMP:20260421T073958
CREATED:20231017T153035Z
LAST-MODIFIED:20231017T153035Z
UID:152524-1698307200-1698339600@empreendedor.com.br
SUMMARY:Sólides Conecta Brasil - Gestão de Pessoas (Curitiba)
DESCRIPTION:
URL:https://empreendedor.com.br/evento/solides-conecta-brasil-gestao-de-pessoas-curitiba/
LOCATION:Curitiba\, Paraná\, Brasil
END:VEVENT
BEGIN:VEVENT
DTSTART;TZID=America/Sao_Paulo:20231026T080000
DTEND;TZID=America/Sao_Paulo:20231027T170000
DTSTAMP:20260421T073958
CREATED:20231017T144920Z
LAST-MODIFIED:20231017T144920Z
UID:152499-1698307200-1698426000@empreendedor.com.br
SUMMARY:CONGRESSO PLDFT - Congresso de Prevenção à Lavagem de Dinheiro e ao Financiamento do Terrorismo
DESCRIPTION:
URL:https://empreendedor.com.br/evento/congresso-pldft-congresso-de-prevencao-a-lavagem-de-dinheiro-e-ao-financiamento-do-terrorismo/
LOCATION:Hotel Grand Hyatt São Paulo\, São Paulo\, São Paulo\, Brasil
END:VEVENT
BEGIN:VEVENT
DTSTART;TZID=America/Sao_Paulo:20231026T083000
DTEND;TZID=America/Sao_Paulo:20231026T210000
DTSTAMP:20260421T073958
CREATED:20230704T153219Z
LAST-MODIFIED:20230704T153219Z
UID:148226-1698309000-1698354000@empreendedor.com.br
SUMMARY:Franchise B2B (Maceió)
DESCRIPTION:Uma feira de franquias para você aprender e empreender! \nEntrada 2kg de alimentos não perecíveis
URL:https://empreendedor.com.br/evento/franchise-b2b-maceio/
LOCATION:Hotel Ritz Lagoa da Anta\, AV. BRIG. E. G. DE BRITO\, 546 - LAGOA DA ANTA\, Maceió\, Alagoas\, Brasil
END:VEVENT
BEGIN:VEVENT
DTSTART;TZID=America/Sao_Paulo:20231027T080000
DTEND;TZID=America/Sao_Paulo:20231027T170000
DTSTAMP:20260421T073958
CREATED:20231007T150409Z
LAST-MODIFIED:20231007T150409Z
UID:152215-1698393600-1698426000@empreendedor.com.br
SUMMARY:MBC - Mainô Business Conference
DESCRIPTION:
URL:https://empreendedor.com.br/evento/mbc-maino-business-conference/
LOCATION:Hotel Windsor Guanabara\, Rio de Janeiro\, Rio de Janeiro\, Brasil
ATTACH;FMTTYPE=image/jpeg:https://empreendedor.com.br/wp-content/uploads/2023/10/WhatsApp-Image-2023-10-07-at-08.03.03.jpeg
END:VEVENT
BEGIN:VEVENT
DTSTART;TZID=America/Sao_Paulo:20231027T080000
DTEND;TZID=America/Sao_Paulo:20231028T170000
DTSTAMP:20260421T073958
CREATED:20230622T182621Z
LAST-MODIFIED:20230622T182621Z
UID:147401-1698393600-1698512400@empreendedor.com.br
SUMMARY:CONAD - Congresso Nacional de Administração
DESCRIPTION:O Congresso Nacional de Administração há 28 anos reúne acadêmicos\, profissionais\, gestores públicos e empreendedores de todo país pela valorização da Administração\, sendo o  pioneiro entre os congressos da área de administração\, inclusive virtualmente.
URL:https://empreendedor.com.br/evento/conad-congresso-nacional-de-administracao/
LOCATION:Centro Educacional Sesc\, Av. C-198\, 224 - Jardim América\, Goiânia - GO\, Goiânia\, Goiás\, 74270-030\, Brasil
ATTACH;FMTTYPE=image/png:https://empreendedor.com.br/wp-content/uploads/2023/06/bannerconad2023-sino.png
END:VEVENT
BEGIN:VEVENT
DTSTART;TZID=America/Sao_Paulo:20231027T080000
DTEND;TZID=America/Sao_Paulo:20231029T170000
DTSTAMP:20260421T073958
CREATED:20230704T160006Z
LAST-MODIFIED:20230704T160006Z
UID:148254-1698393600-1698598800@empreendedor.com.br
SUMMARY:FRANCHISING FAIR - Feira Nacional de Franquias (São Paulo)
DESCRIPTION:
URL:https://empreendedor.com.br/evento/franchising-fair-feira-nacional-de-franquias-sao-paulo/
LOCATION:Plaza Sul Shopping\, Praça Leonor Kaupa\, 100 - Jardim da Saúde\, São Paulo - SP\, São Paulo\, São Paulo\, Brasil
END:VEVENT
BEGIN:VEVENT
DTSTART;TZID=America/Sao_Paulo:20231027T080000
DTEND;TZID=America/Sao_Paulo:20231029T170000
DTSTAMP:20260421T073958
CREATED:20231007T153129Z
LAST-MODIFIED:20231007T153129Z
UID:152236-1698393600-1698598800@empreendedor.com.br
SUMMARY:SDA 2023 - Segredos da Audiência 2023 (Outubro)
DESCRIPTION:
URL:https://empreendedor.com.br/evento/sda-2023-segredos-da-audiencia-2023-outubro/
LOCATION:Teatro Bradesco\, São Paulo\, São Paulo\, Brasil
ATTACH;FMTTYPE=image/jpeg:https://empreendedor.com.br/wp-content/uploads/2023/10/WhatsApp-Image-2023-10-07-at-08.31.01.jpeg
END:VEVENT
BEGIN:VEVENT
DTSTART;TZID=America/Sao_Paulo:20231027T140000
DTEND;TZID=America/Sao_Paulo:20231029T200000
DTSTAMP:20260421T073958
CREATED:20230703T225055Z
LAST-MODIFIED:20230703T225055Z
UID:148127-1698415200-1698609600@empreendedor.com.br
SUMMARY:FEIRA DA FRANQUIA (Salvador/Outubro)
DESCRIPTION:
URL:https://empreendedor.com.br/evento/feira-da-franquia-salvador-outubro/
LOCATION:Bela Vista Shopping\, Alameda Euvaldo Luz\, 92 - Horto Bela Vista\, Salvador - BA\, Salvador\, Bahia\, 41098-020\, Brasil
END:VEVENT
END:VCALENDAR