BEGIN:VCALENDAR
VERSION:2.0
PRODID:-//Portal Empreendedor - ECPv6.9.0//NONSGML v1.0//EN
CALSCALE:GREGORIAN
METHOD:PUBLISH
X-ORIGINAL-URL:https://empreendedor.com.br
X-WR-CALDESC:Eventos para Portal Empreendedor
REFRESH-INTERVAL;VALUE=DURATION:PT1H
X-Robots-Tag:noindex
X-PUBLISHED-TTL:PT1H
BEGIN:VTIMEZONE
TZID:America/Sao_Paulo
BEGIN:STANDARD
TZOFFSETFROM:-0300
TZOFFSETTO:-0300
TZNAME:-03
DTSTART:20230101T000000
END:STANDARD
END:VTIMEZONE
BEGIN:VEVENT
DTSTART;TZID=America/Sao_Paulo:20230614T080000
DTEND;TZID=America/Sao_Paulo:20230626T170000
DTSTAMP:20260421T100425
CREATED:20230705T153832Z
LAST-MODIFIED:20230705T153832Z
UID:148466-1686729600-1687798800@empreendedor.com.br
SUMMARY:Supernova Cotrijal 2023
DESCRIPTION:
URL:https://empreendedor.com.br/evento/supernova-cotrijal-2023/
LOCATION:Cotrijal\, Não-Me-Toque\, Rio Grande do Sul\, Brasil
END:VEVENT
BEGIN:VEVENT
DTSTART;TZID=America/Sao_Paulo:20230619T090000
DTEND;TZID=America/Sao_Paulo:20230623T170000
DTSTAMP:20260421T100425
CREATED:20230629T135533Z
LAST-MODIFIED:20230629T135533Z
UID:147798-1687165200-1687539600@empreendedor.com.br
SUMMARY:B2B Week - Inteligência de Venda
DESCRIPTION:
URL:https://empreendedor.com.br/evento/b2b-week-inteligencia-de-venda/
LOCATION:Online\, São Paulo\, São Paulo\, Brazil
ATTACH;FMTTYPE=image/webp:https://empreendedor.com.br/wp-content/uploads/2023/06/B2B-WEEK-banner-email-intern-Cortex-1-2.webp
END:VEVENT
BEGIN:VEVENT
DTSTART;TZID=America/Sao_Paulo:20230619T140000
DTEND;TZID=America/Sao_Paulo:20230620T171000
DTSTAMP:20260421T100425
CREATED:20230628T165322Z
LAST-MODIFIED:20230628T165322Z
UID:147678-1687183200-1687281000@empreendedor.com.br
SUMMARY:PM Case Day 2023
DESCRIPTION:Vem aí a 21ª edição do PM Case Day 2023\, nos dias 19 e 20 de junho. Com conteúdos inéditos sobre temas essenciais para a transformação de negócios\, o PM Case Day 2023 debaterá os pilares da transformação como a sustentabilidade\, o digital\, a governança e as pessoas como agentes de mudanças. Não perca esta oportunidade única de aprimorar suas habilidades e aumentar sua eficácia como gestor de projetos
URL:https://empreendedor.com.br/evento/pm-case-day-2023/
LOCATION:Online\, São Paulo\, São Paulo\, Brazil
ATTACH;FMTTYPE=image/png:https://empreendedor.com.br/wp-content/uploads/2023/06/ko3x8vrytx9hzuoqedevqdff5kde.png
END:VEVENT
BEGIN:VEVENT
DTSTART;TZID=America/Sao_Paulo:20230620T080000
DTEND;TZID=America/Sao_Paulo:20230621T170000
DTSTAMP:20260421T100425
CREATED:20230628T162616Z
LAST-MODIFIED:20230628T162616Z
UID:147664-1687248000-1687366800@empreendedor.com.br
SUMMARY:Lean Summit Brasil 2022
DESCRIPTION:
URL:https://empreendedor.com.br/evento/lean-summit-brasil-2022/
LOCATION:WTC World Trade Center São Paulo\, Av. das Nações Unidas\, 12551 - Cidade Monções São Paulo - SP\, São Paulo\, São Paulo\, 04578-903\, Brasil
ATTACH;FMTTYPE=image/jpeg:https://empreendedor.com.br/wp-content/uploads/2023/06/lean-summit-2023-compartilhamento.jpg
END:VEVENT
BEGIN:VEVENT
DTSTART;TZID=America/Sao_Paulo:20230620T080000
DTEND;TZID=America/Sao_Paulo:20230621T210000
DTSTAMP:20260421T100425
CREATED:20230628T160527Z
LAST-MODIFIED:20230628T160547Z
UID:147651-1687248000-1687381200@empreendedor.com.br
SUMMARY:HR4results 2023
DESCRIPTION:Impulsione sua carreira\, seu negócio e seu time com networking\, inovação e conteúdos exclusivos! \nFique por dentro das tendências e inovações da área de gente e gestão e conecte-se com os maiores profissionais de RH do Brasil e do mundo!
URL:https://empreendedor.com.br/evento/hr4results-2023/
LOCATION:Expo Center Norte\, São Paulo\, São Paulo\, Brasil
ATTACH;FMTTYPE=image/jpeg:https://empreendedor.com.br/wp-content/uploads/2023/06/6447db2c26c53-lg.jpg
END:VEVENT
BEGIN:VEVENT
DTSTART;TZID=America/Sao_Paulo:20230620T080000
DTEND;TZID=America/Sao_Paulo:20230622T170000
DTSTAMP:20260421T100425
CREATED:20230622T165413Z
LAST-MODIFIED:20230622T165413Z
UID:147379-1687248000-1687453200@empreendedor.com.br
SUMMARY:Intercom Nordeste - Congresso de Ciências da Comunicação
DESCRIPTION:
URL:https://empreendedor.com.br/evento/intercom-nordeste-congresso-de-ciencias-da-comunicacao/
LOCATION:universidade Federal de Campina Grande\, Campina Grande\, Paraíba\, Brasil
END:VEVENT
BEGIN:VEVENT
DTSTART;TZID=America/Sao_Paulo:20230620T080000
DTEND;TZID=America/Sao_Paulo:20230622T203000
DTSTAMP:20260421T100425
CREATED:20230627T161429Z
LAST-MODIFIED:20230627T161429Z
UID:147532-1687248000-1687465800@empreendedor.com.br
SUMMARY:Congresso Internacional de Compliance
DESCRIPTION:É o principal evento do setor\, que há 10 anos reúne grandes nomes e mais de 1.000 participantes em São Paulo\, em uma verdadeira imersão de 3 dias de workshops\, palestras e entrevistas.
URL:https://empreendedor.com.br/evento/congresso-internacional-de-compliance/
LOCATION:Villa Blue Tree\, São Paulo\, São Paulo\, Brasil
ATTACH;FMTTYPE=image/png:https://empreendedor.com.br/wp-content/uploads/2023/06/Congresso-Internacional-de-Compliance.png
END:VEVENT
BEGIN:VEVENT
DTSTART;TZID=America/Sao_Paulo:20230620T083000
DTEND;TZID=America/Sao_Paulo:20230620T170000
DTSTAMP:20260421T100425
CREATED:20230628T152349Z
LAST-MODIFIED:20230628T152349Z
UID:147624-1687249800-1687280400@empreendedor.com.br
SUMMARY:FILI 2023 - Fórum de Inovação e Liderança da Incorporação
DESCRIPTION:O FILI tem como objetivo promover debates e disseminar conhecimento através de pesquisas e estudos inéditos para esmiuçar o ecossistema de startups\, produtos e serviços inovadores e tecnológicos a serviço do mercado imobiliário.
URL:https://empreendedor.com.br/evento/fili-2023-forum-de-inovacao-e-lideranca-da-incorporacao/
LOCATION:Grand Mercure São Paulo\, Rua Olimpíadas nº 205 – Vila Olímpia – São Paulo\, São Paulo\, São Paulo\, Brasil
ATTACH;FMTTYPE=image/jpeg:https://empreendedor.com.br/wp-content/uploads/2023/06/FILI-2023-Apoio-370-x-230.jpg
END:VEVENT
BEGIN:VEVENT
DTSTART;TZID=America/Sao_Paulo:20230620T100000
DTEND;TZID=America/Sao_Paulo:20230623T180000
DTSTAMP:20260421T100425
CREATED:20230704T192243Z
LAST-MODIFIED:20230704T192354Z
UID:148427-1687255200-1687543200@empreendedor.com.br
SUMMARY:São Paulo - Blockchain Festival (Blockchain SP Festival)
DESCRIPTION:
URL:https://empreendedor.com.br/evento/sao-paulo-blockchain-festival-blockchain-sp-festival/
LOCATION:Universidade de São Paulo USP\, São Paulo\, São Paulo\, Brasil
END:VEVENT
BEGIN:VEVENT
DTSTART;TZID=America/Sao_Paulo:20230620T150000
DTEND;TZID=America/Sao_Paulo:20230622T210000
DTSTAMP:20260421T100425
CREATED:20230703T230722Z
LAST-MODIFIED:20230703T230722Z
UID:148137-1687273200-1687467600@empreendedor.com.br
SUMMARY:FENACIL - Feira de Empreendedorismo e Negócios da ACIL
DESCRIPTION:
URL:https://empreendedor.com.br/evento/fenacil-feira-de-empreendedorismo-e-negocios-da-acil/
LOCATION:Espaço Nações\, Rodovia Deputado Laércio Corte\, 4500 Graminha Limeira\, SP\, Limeira\, São Paulo\, Brasil
ATTACH;FMTTYPE=image/png:https://empreendedor.com.br/wp-content/uploads/2023/07/647884831c2fa.png
END:VEVENT
BEGIN:VEVENT
DTSTART;TZID=America/Sao_Paulo:20230620T180000
DTEND;TZID=America/Sao_Paulo:20230622T210000
DTSTAMP:20260421T100425
CREATED:20230704T191343Z
LAST-MODIFIED:20230704T191343Z
UID:148416-1687284000-1687467600@empreendedor.com.br
SUMMARY:Revolução Digital Feminina
DESCRIPTION:
URL:https://empreendedor.com.br/evento/revolucao-digital-feminina/
LOCATION:Online\, São Paulo\, São Paulo\, Brazil
ATTACH;FMTTYPE=image/png:https://empreendedor.com.br/wp-content/uploads/2023/07/REVOLUCAO-DIGITAL-FEMININA-952x675-1.png
END:VEVENT
BEGIN:VEVENT
DTSTART;TZID=America/Sao_Paulo:20230621T080000
DTEND;TZID=America/Sao_Paulo:20230621T170000
DTSTAMP:20260421T100425
CREATED:20230628T150348Z
LAST-MODIFIED:20230628T150348Z
UID:147616-1687334400-1687366800@empreendedor.com.br
SUMMARY:Feira de Empregabilidade em Rio Claro
DESCRIPTION:A Feira da Empregabilidade conecta empregadores e candidatos em busca de oportunidades de trabalho. Seu objetivo é simplificar o processo de contratação\, fornecendo uma plataforma para que as empresas encontrem talentos preparados e os candidatos interajam diretamente com os empregadores.
URL:https://empreendedor.com.br/evento/feira-de-empregabilidade-em-rio-claro/
LOCATION:Grupo Ginástisco Rioclarense\, Rua Dois\, 941 - Centro\, Rio Claro\, São Paulo\, Brasil
ATTACH;FMTTYPE=image/png:https://empreendedor.com.br/wp-content/uploads/2023/06/BANNER-FEIRA-SITE-DESKTOP-REV001-1024x320-1.png
END:VEVENT
BEGIN:VEVENT
DTSTART;TZID=America/Sao_Paulo:20230621T080000
DTEND;TZID=America/Sao_Paulo:20230621T170000
DTSTAMP:20260421T100425
CREATED:20230704T182258Z
LAST-MODIFIED:20230704T182258Z
UID:148350-1687334400-1687366800@empreendedor.com.br
SUMMARY:Planet Franchise Campo Grande (Digital / Junho)
DESCRIPTION:
URL:https://empreendedor.com.br/evento/planet-franchise-campo-grande-digital-junho/
LOCATION:Online\, São Paulo\, São Paulo\, Brazil
END:VEVENT
BEGIN:VEVENT
DTSTART;TZID=America/Sao_Paulo:20230621T080000
DTEND;TZID=America/Sao_Paulo:20230621T170000
DTSTAMP:20260421T100425
CREATED:20230705T160512Z
LAST-MODIFIED:20230705T160512Z
UID:148487-1687334400-1687366800@empreendedor.com.br
SUMMARY:Webinar - Da Sobrevivência ao Sucesso Financeiro: Estratégias Essenciais para os Empreendedores
DESCRIPTION:
URL:https://empreendedor.com.br/evento/webinar-da-sobrevivencia-ao-sucesso-financeiro-estrategias-essenciais-para-os-empreendedores/
LOCATION:Online\, São Paulo\, São Paulo\, Brazil
END:VEVENT
BEGIN:VEVENT
DTSTART;TZID=America/Sao_Paulo:20230621T080000
DTEND;TZID=America/Sao_Paulo:20230623T170000
DTSTAMP:20260421T100425
CREATED:20230705T155833Z
LAST-MODIFIED:20230705T155833Z
UID:148480-1687334400-1687539600@empreendedor.com.br
SUMMARY:Viasoft Connect 2023
DESCRIPTION:
URL:https://empreendedor.com.br/evento/viasoft-connect-2023/
LOCATION:Viasoft Experience\, R. Prof. Pedro Viriato Parigot de Souza\, 5300 - Cidade Industrial de Curitiba\, Curitiba - PR\, Curitiba\, Paraná\, 81280-330\, Brasil
END:VEVENT
BEGIN:VEVENT
DTSTART;TZID=America/Sao_Paulo:20230621T080000
DTEND;TZID=America/Sao_Paulo:20230623T180000
DTSTAMP:20260421T100425
CREATED:20230626T174508Z
LAST-MODIFIED:20230626T174508Z
UID:147482-1687334400-1687543200@empreendedor.com.br
SUMMARY:CONGREGARH - Congresso de Gestão de Pessoas ABRH-RS
DESCRIPTION:Venham conosco embarcar nessa jornada de 3 dias com palestrantes renomados no cenário mundial\, e uma feira de negócios com muito networking e dezenas de produtos e serviços que transformarão a realidade do seu negócio.
URL:https://empreendedor.com.br/evento/congregarh-congresso-de-gestao-de-pessoas-abrh-rs/
LOCATION:Centro de Eventos PUCRS\, Porto Alegre\, Rio Grande do Sul\, Brasil
END:VEVENT
BEGIN:VEVENT
DTSTART;TZID=America/Sao_Paulo:20230621T090000
DTEND;TZID=America/Sao_Paulo:20230623T200000
DTSTAMP:20260421T100425
CREATED:20230622T180854Z
LAST-MODIFIED:20230622T180854Z
UID:147392-1687338000-1687550400@empreendedor.com.br
SUMMARY:CBTD - Congresso Brasileiro de Treinamento e Desenvolvimento
DESCRIPTION:O CBTD 2023 é a 38ª edição do maior Congresso de Treinamento e Desenvolvimento da América Latina e teve em sua última edição presencial\, em 2022\, mais de 5000 participantes. Além de palestras e plenárias\, o Congresso conta com a Expo CBTD\, uma feira de produtos e serviços de diversos fornecedores do mercado trazendo o que há de mais novo e tecnológico para o evento.
URL:https://empreendedor.com.br/evento/cbtd-congresso-brasileiro-de-treinamento-e-desenvolvimento/
LOCATION:Centro de Eventos Pro Magno\, São Paulo\, São Paulo\, Brasil
ATTACH;FMTTYPE=image/jpeg:https://empreendedor.com.br/wp-content/uploads/2023/06/cbtd-2023-1682391407.jpg
END:VEVENT
BEGIN:VEVENT
DTSTART;TZID=America/Sao_Paulo:20230621T100000
DTEND;TZID=America/Sao_Paulo:20230621T170000
DTSTAMP:20260421T100425
CREATED:20230628T164257Z
LAST-MODIFIED:20230628T164257Z
UID:147671-1687341600-1687366800@empreendedor.com.br
SUMMARY:Manufacturing Network
DESCRIPTION:
URL:https://empreendedor.com.br/evento/manufacturing-network/
LOCATION:Rio Grande do Sul
END:VEVENT
BEGIN:VEVENT
DTSTART;TZID=America/Sao_Paulo:20230621T133000
DTEND;TZID=America/Sao_Paulo:20230621T173000
DTSTAMP:20260421T100425
CREATED:20230629T141321Z
LAST-MODIFIED:20230629T141321Z
UID:147801-1687354200-1687368600@empreendedor.com.br
SUMMARY:CEO Fórum de 2023 (CEO Fórum) (Campinas)
DESCRIPTION:Na edição deste ano\, sob o tema “Liderança Consciente”\, abriremos espaço para que lideranças e especialistas\, nacionais e internacionais\, dialoguem sobre a importância da empatia\, transparência e responsabilidade social na construção de equipes e empresas bem-sucedidas.
URL:https://empreendedor.com.br/evento/ceo-forum-de-2023-ceo-forum-campinas/
LOCATION:Amcham\, Av. João Naves de Ávila\, 1331 - 16º Andar - Sala 164 - Tibery\, Uberlândia - MG\, Uberlandia\, Minas Gerais\, 38408-902\, Brasil
ATTACH;FMTTYPE=image/png:https://empreendedor.com.br/wp-content/uploads/2023/06/694be34c-ad6f-48ec-a703-6a743894b0c0.png
END:VEVENT
BEGIN:VEVENT
DTSTART;TZID=America/Sao_Paulo:20230621T133000
DTEND;TZID=America/Sao_Paulo:20230621T190000
DTSTAMP:20260421T100425
CREATED:20230629T141957Z
LAST-MODIFIED:20230629T141957Z
UID:147809-1687354200-1687374000@empreendedor.com.br
SUMMARY:CEO Fórum de 2023 (CEO Fórum) (Goiânia)
DESCRIPTION:Na edição deste ano\, sob o tema “Liderança Consciente”\, abriremos espaço para que lideranças e especialistas\, nacionais e internacionais\, dialoguem sobre a importância da empatia\, transparência e responsabilidade social na construção de equipes e empresas bem-sucedida
URL:https://empreendedor.com.br/evento/ceo-forum-de-2023-ceo-forum-goiania/
LOCATION:Amcham\, Av. João Naves de Ávila\, 1331 - 16º Andar - Sala 164 - Tibery\, Uberlândia - MG\, Uberlandia\, Minas Gerais\, 38408-902\, Brasil
ATTACH;FMTTYPE=image/png:https://empreendedor.com.br/wp-content/uploads/2023/06/694be34c-ad6f-48ec-a703-6a743894b0c0.png
END:VEVENT
BEGIN:VEVENT
DTSTART;TZID=America/Sao_Paulo:20230621T160000
DTEND;TZID=America/Sao_Paulo:20230623T220000
DTSTAMP:20260421T100425
CREATED:20230622T162804Z
LAST-MODIFIED:20230622T162804Z
UID:147371-1687363200-1687557600@empreendedor.com.br
SUMMARY:Feira de Negócios e Oportunidades The Week
DESCRIPTION:
URL:https://empreendedor.com.br/evento/feira-de-negocios-e-oportunidades-the-week/
LOCATION:Centro de Convenções do Amazonas Vasco Vasques\, Av. Constantino Nery\, 5001 - Flores\, Manaus - AM\, Flores\, Manaus\, Amazonas\,\, Manaus\, Amazonas\, 69058-795
END:VEVENT
BEGIN:VEVENT
DTSTART;TZID=America/Sao_Paulo:20230621T180000
DTEND;TZID=America/Sao_Paulo:20230621T213000
DTSTAMP:20260421T100425
CREATED:20230703T231230Z
LAST-MODIFIED:20230703T231230Z
UID:148142-1687370400-1687383000@empreendedor.com.br
SUMMARY:FGV Ventures | Demoday Batch 14
DESCRIPTION:A FGV Ventures convida você para os pitches de apresentação das start ups participantes do Batch 14 do nosso programa de aceleração. Será uma oportunidade única para conhecer as soluções inovadoras dessas empresas e se conectar com empreendedores e investidores do ecossistema de inovação
URL:https://empreendedor.com.br/evento/fgv-ventures-demoday-batch-14/
LOCATION:FGV EAESP\, R. Itapeva\, 432 - São Paulo - São Paulo - Brasil\, São Paulo\, São Paulo\, Brasil
ATTACH;FMTTYPE=image/png:https://empreendedor.com.br/wp-content/uploads/2023/07/645c29886809f.png
END:VEVENT
BEGIN:VEVENT
DTSTART;TZID=America/Sao_Paulo:20230622T080000
DTEND;TZID=America/Sao_Paulo:20230622T170000
DTSTAMP:20260421T100425
CREATED:20230704T191027Z
LAST-MODIFIED:20230704T191027Z
UID:148411-1687420800-1687453200@empreendedor.com.br
SUMMARY:Reload 2023 (Uberlândia)
DESCRIPTION:
URL:https://empreendedor.com.br/evento/reload-2023-uberlandia/
LOCATION:Uberlândia\, Uberlandia\, Minas Gerais\, Brasil
END:VEVENT
BEGIN:VEVENT
DTSTART;TZID=America/Sao_Paulo:20230622T090000
DTEND;TZID=America/Sao_Paulo:20230622T090000
DTSTAMP:20260421T100425
CREATED:20230629T141315Z
LAST-MODIFIED:20230629T141315Z
UID:147803-1687424400-1687424400@empreendedor.com.br
SUMMARY:CEO Fórum de 2023 (CEO Fórum) (Campo Grande)
DESCRIPTION:Na edição deste ano\, sob o tema “Liderança Consciente”\, abriremos espaço para que lideranças e especialistas\, nacionais e internacionais\, dialoguem sobre a importância da empatia\, transparência e responsabilidade social na construção de equipes e empresas bem-sucedida
URL:https://empreendedor.com.br/evento/ceo-forum-de-2023-ceo-forum-campo-grande/
LOCATION:Amcham\, Av. João Naves de Ávila\, 1331 - 16º Andar - Sala 164 - Tibery\, Uberlândia - MG\, Uberlandia\, Minas Gerais\, 38408-902\, Brasil
ATTACH;FMTTYPE=image/png:https://empreendedor.com.br/wp-content/uploads/2023/06/694be34c-ad6f-48ec-a703-6a743894b0c0.png
END:VEVENT
BEGIN:VEVENT
DTSTART;TZID=America/Sao_Paulo:20230622T133000
DTEND;TZID=America/Sao_Paulo:20230622T180000
DTSTAMP:20260421T100425
CREATED:20230629T143235Z
LAST-MODIFIED:20230629T143235Z
UID:147818-1687440600-1687456800@empreendedor.com.br
SUMMARY:CEO Fórum de 2023 (CEO Fórum) (São Paulo)
DESCRIPTION:Na edição deste ano\, sob o tema “Liderança Consciente”\, abriremos espaço para que lideranças e especialistas\, nacionais e internacionais\, dialoguem sobre a importância da empatia\, transparência e responsabilidade social na construção de equipes e empresas bem-sucedida
URL:https://empreendedor.com.br/evento/ceo-forum-de-2023-ceo-forum-sao-paulo/
LOCATION:Amcham\, Av. João Naves de Ávila\, 1331 - 16º Andar - Sala 164 - Tibery\, Uberlândia - MG\, Uberlandia\, Minas Gerais\, 38408-902\, Brasil
ATTACH;FMTTYPE=image/png:https://empreendedor.com.br/wp-content/uploads/2023/06/694be34c-ad6f-48ec-a703-6a743894b0c0.png
END:VEVENT
BEGIN:VEVENT
DTSTART;TZID=America/Sao_Paulo:20230622T180000
DTEND;TZID=America/Sao_Paulo:20230622T210000
DTSTAMP:20260421T100425
CREATED:20230629T141951Z
LAST-MODIFIED:20230629T141951Z
UID:147804-1687456800-1687467600@empreendedor.com.br
SUMMARY:CEO Fórum de 2023 (CEO Fórum) (Fortaleza)
DESCRIPTION:Na edição deste ano\, sob o tema “Liderança Consciente”\, abriremos espaço para que lideranças e especialistas\, nacionais e internacionais\, dialoguem sobre a importância da empatia\, transparência e responsabilidade social na construção de equipes e empresas bem-sucedida
URL:https://empreendedor.com.br/evento/ceo-forum-de-2023-ceo-forum-fortaleza/
LOCATION:Amcham\, Av. João Naves de Ávila\, 1331 - 16º Andar - Sala 164 - Tibery\, Uberlândia - MG\, Uberlandia\, Minas Gerais\, 38408-902\, Brasil
ATTACH;FMTTYPE=image/png:https://empreendedor.com.br/wp-content/uploads/2023/06/694be34c-ad6f-48ec-a703-6a743894b0c0.png
END:VEVENT
BEGIN:VEVENT
DTSTART;TZID=America/Sao_Paulo:20230623T080000
DTEND;TZID=America/Sao_Paulo:20230624T170000
DTSTAMP:20260421T100425
CREATED:20230630T181945Z
LAST-MODIFIED:20230630T181945Z
UID:147985-1687507200-1687626000@empreendedor.com.br
SUMMARY:EXPOSMTech - Criatividade\, Inovação e Empreendedorismo
DESCRIPTION:A 2ª edição do SMTech vai ocorrer nos dias 23 e 24 de junho de 2023 e têm como objetivo gerar oportunidades de negócios\, visibilidade para empreendedores\, conectando pessoas a empresas e disponibilizando espaço para marcas que atuam no mercado oferecendo produtos e serviços. Além disso\, incentivamos a interação entre o mercado e a Faculdade
URL:https://empreendedor.com.br/evento/exposmtech-criatividade-inovacao-e-empreendedorismo/
LOCATION:Faculdade Santa Marcelina\, Praça Irmã Annina Bisegna\, 40 - Centro\, Muriaé - MG\, Muriaé\, Minas Gerais\, 36880-083\, Brasil
END:VEVENT
BEGIN:VEVENT
DTSTART;TZID=America/Sao_Paulo:20230623T080000
DTEND;TZID=America/Sao_Paulo:20230625T220000
DTSTAMP:20260421T100425
CREATED:20230704T194058Z
LAST-MODIFIED:20230704T194058Z
UID:148433-1687507200-1687730400@empreendedor.com.br
SUMMARY:Startup Weekend - E Commerce
DESCRIPTION:
URL:https://empreendedor.com.br/evento/startup-weekend-e-commerce/
LOCATION:Senac Hub Academy / Shopping Bosque do Ipês\, Rua do Parque\, 75 Centro Campo Grande\, MS\, Campo Grande\, Mato Grosso do Sul\, Brasil
END:VEVENT
BEGIN:VEVENT
DTSTART;TZID=America/Sao_Paulo:20230623T090000
DTEND;TZID=America/Sao_Paulo:20230623T170000
DTSTAMP:20260421T100425
CREATED:20230628T170621Z
LAST-MODIFIED:20230628T170621Z
UID:147684-1687510800-1687539600@empreendedor.com.br
SUMMARY:Seminário de Governança Municipal para Prefeitos e Gestores Públicos
DESCRIPTION:No dia 23 de junho\, vocês têm um compromisso importante conosco: a 9ª edição do Seminário de Governança Municipal para Prefeitos e Gestores Públicos. Esse evento – que acontece em todo o país e tem como foco a capacitação de prefeitos\, gestores públicos e lideranças – chega a São Paulo com uma programação imperdível.
URL:https://empreendedor.com.br/evento/seminario-de-governanca-municipal-para-prefeitos-e-gestores-publicos/
LOCATION:CRC-SP\, R. Rosa e Silva\, 60 - Santa Cecilia\, São Paulo - SP\, São Paulo\, São Paulo\, 01230-020\, Brasil
ATTACH;FMTTYPE=image/jpeg:https://empreendedor.com.br/wp-content/uploads/2023/06/maxresdefault-1.jpg
END:VEVENT
BEGIN:VEVENT
DTSTART;TZID=America/Sao_Paulo:20230623T124500
DTEND;TZID=America/Sao_Paulo:20230623T174000
DTSTAMP:20260421T100425
CREATED:20230703T232647Z
LAST-MODIFIED:20230703T232647Z
UID:148150-1687524300-1687542000@empreendedor.com.br
SUMMARY:FOCO23
DESCRIPTION:
URL:https://empreendedor.com.br/evento/foco23/
LOCATION:Melicidade\, Av. das Nações Unidas\, 3003 | Bonfim\, Osasco | SP\, São Paulo\, São Paulo\, Brasil
END:VEVENT
END:VCALENDAR