BEGIN:VCALENDAR
VERSION:2.0
PRODID:-//Portal Empreendedor - ECPv6.9.0//NONSGML v1.0//EN
CALSCALE:GREGORIAN
METHOD:PUBLISH
X-ORIGINAL-URL:https://empreendedor.com.br
X-WR-CALDESC:Eventos para Portal Empreendedor
REFRESH-INTERVAL;VALUE=DURATION:PT1H
X-Robots-Tag:noindex
X-PUBLISHED-TTL:PT1H
BEGIN:VTIMEZONE
TZID:America/Sao_Paulo
BEGIN:STANDARD
TZOFFSETFROM:-0300
TZOFFSETTO:-0300
TZNAME:-03
DTSTART:20230101T000000
END:STANDARD
END:VTIMEZONE
BEGIN:VEVENT
DTSTART;TZID=America/Sao_Paulo:20230720T083000
DTEND;TZID=America/Sao_Paulo:20230720T210000
DTSTAMP:20260421T074214
CREATED:20230704T154824Z
LAST-MODIFIED:20230704T154824Z
UID:148244-1689841800-1689886800@empreendedor.com.br
SUMMARY:Franchise B2B (São José do Rio Preto)
DESCRIPTION:Uma feira de franquias para você aprender e empreender! \nEntrada 2kg de alimentos não perecíveis
URL:https://empreendedor.com.br/evento/franchise-b2b-sao-jose-do-rio-preto/
LOCATION:Hotel Nacional\, RUA PROF. CARLOS IBANHEZ\, N° 35 - VILA DINIZ\, São José do Rio Preto\, São Paulo\, Brasil
END:VEVENT
BEGIN:VEVENT
DTSTART;TZID=America/Sao_Paulo:20230720T090000
DTEND;TZID=America/Sao_Paulo:20230720T170000
DTSTAMP:20260421T074214
CREATED:20230808T211529Z
LAST-MODIFIED:20230808T211529Z
UID:149592-1689843600-1689872400@empreendedor.com.br
SUMMARY:6.ª Jornada de Qualidade de Vida
DESCRIPTION:A  6.ª Jornada de Qualidade de Vida\, promovida pela Associação Brasileira de Qualidade de Vida (ABQV) nas empresas\, uma organização sem fins lucrativos\, fundada em 1995\, com o objetivo de estimular ações e programas de qualidade de vida em ambientes corporativos\, discutirá como as boas práticas de ESG influenciam na qualidade de vida dos colaboradores das empresas.
URL:https://empreendedor.com.br/evento/6-a-jornada-de-qualidade-de-vida/
LOCATION:Online\, São Paulo\, São Paulo\, Brazil
END:VEVENT
BEGIN:VEVENT
DTSTART;TZID=America/Sao_Paulo:20230720T090000
DTEND;TZID=America/Sao_Paulo:20230721T180000
DTSTAMP:20260421T074214
CREATED:20230627T162713Z
LAST-MODIFIED:20230627T162713Z
UID:147537-1689843600-1689962400@empreendedor.com.br
SUMMARY:Congresso Nacional de Contabilidade
DESCRIPTION:O Pensar Contabilidade\, um dos maiores Congressos da área contábil\, chega a sua 4° edição para juntos discutirmos o futuro da profissão contábil\, sem deixar de se preocupar com o presente. \nO principal objetivo do Pensar Contabilidade é proporcionar aos participantes conhecimento e insights de alto nível\, de forma sistemática\, segura e estruturada sobre novas tecnologias\, novas práticas para o mercado e novas visões que possam ser utilizadas no dia a dia das contabilidades.
URL:https://empreendedor.com.br/evento/congresso-nacional-de-contabilidade/
LOCATION:Conselho Regional de Contabilidade de Goiás\, Rua 107\, 151 Setor Sul Goiânia\, GO\, Goiânia\, Goiás\, Brasil
ATTACH;FMTTYPE=image/png:https://empreendedor.com.br/wp-content/uploads/2023/06/6425e93b9a9f3-lg.png
END:VEVENT
BEGIN:VEVENT
DTSTART;TZID=America/Sao_Paulo:20230720T090000
DTEND;TZID=America/Sao_Paulo:20230722T190000
DTSTAMP:20260421T074214
CREATED:20230705T155550Z
LAST-MODIFIED:20230705T155550Z
UID:148479-1689843600-1690052400@empreendedor.com.br
SUMMARY:Uni E-commerce Week 2023
DESCRIPTION:
URL:https://empreendedor.com.br/evento/uni-e-commerce-week-2023/
LOCATION:Shopping Frei Caneca | SP\, Face Doctor\, R. Frei Caneca\, 569 - Consolação\, São Paulo - SP\, São Paulo\, São Paulo\, 01307-001\, Brasil
END:VEVENT
BEGIN:VEVENT
DTSTART;TZID=America/Sao_Paulo:20230721T080000
DTEND;TZID=America/Sao_Paulo:20230721T170000
DTSTAMP:20260421T074214
CREATED:20230628T185243Z
LAST-MODIFIED:20230628T185243Z
UID:147735-1689926400-1689958800@empreendedor.com.br
SUMMARY:The Global Leadership Summit Brasil (Summit Rio de Janeiro/RJ)
DESCRIPTION:
URL:https://empreendedor.com.br/evento/the-global-leadership-summit-brasil-summit-rio-de-janeiro-rj/
LOCATION:Primeira Igreja Batista em Del Castilho\, R. Bpo. Lacerda\, 57 - Del Castilho\, Rio de Janeiro - RJ\, Rio de Janeiro\, Rio de Janeiro\, 21051-120\, Brasil
END:VEVENT
BEGIN:VEVENT
DTSTART;TZID=America/Sao_Paulo:20230721T080000
DTEND;TZID=America/Sao_Paulo:20230722T170000
DTSTAMP:20260421T074214
CREATED:20230704T190022Z
LAST-MODIFIED:20230704T190022Z
UID:148395-1689926400-1690045200@empreendedor.com.br
SUMMARY:Reload 2023 (Montes Claros)
DESCRIPTION:
URL:https://empreendedor.com.br/evento/reload-2023-montes-claros/
LOCATION:Montes Claros\, Montes Claros\, Minas Gerais\, Brasil
END:VEVENT
BEGIN:VEVENT
DTSTART;TZID=America/Sao_Paulo:20230722T080000
DTEND;TZID=America/Sao_Paulo:20230722T220000
DTSTAMP:20260421T074214
CREATED:20230704T162223Z
LAST-MODIFIED:20230704T162223Z
UID:148277-1690012800-1690063200@empreendedor.com.br
SUMMARY:HW Experience Brasil (Porto Alegre)
DESCRIPTION:
URL:https://empreendedor.com.br/evento/hw-experience-brasil-porto-alegre/
LOCATION:Hotel Laghetto Viverone Moinhos\, Rua Dr. Vale\, 579 - Moinhos de Vento - Porto Alegre - RS\, Porto Alegre\, Rio Grande do Sul
END:VEVENT
BEGIN:VEVENT
DTSTART;TZID=America/Sao_Paulo:20230725T080000
DTEND;TZID=America/Sao_Paulo:20230725T220000
DTSTAMP:20260421T074214
CREATED:20230704T162204Z
LAST-MODIFIED:20230704T162204Z
UID:148276-1690272000-1690322400@empreendedor.com.br
SUMMARY:HW Experience Brasil (Rio de Janeiro)
DESCRIPTION:
URL:https://empreendedor.com.br/evento/hw-experience-brasil-rio-de-janeiro/
LOCATION:CEO Offices\, Av João Cabral de Mello Neto\, 850 - BL03 SL1720 - Barra da Tijuca\, Rio de Janeiro - RJ\, Rio de Janeiro\, Rio de Janeiro\, Brasil
END:VEVENT
BEGIN:VEVENT
DTSTART;TZID=America/Sao_Paulo:20230726T080000
DTEND;TZID=America/Sao_Paulo:20230726T170000
DTSTAMP:20260421T074214
CREATED:20230704T183257Z
LAST-MODIFIED:20230704T183257Z
UID:148362-1690358400-1690390800@empreendedor.com.br
SUMMARY:Planet Franchise Natal (Digital / Julho)
DESCRIPTION:
URL:https://empreendedor.com.br/evento/planet-franchise-natal-digital-julho/
LOCATION:Online\, São Paulo\, São Paulo\, Brazil
END:VEVENT
BEGIN:VEVENT
DTSTART;TZID=America/Sao_Paulo:20230727T080000
DTEND;TZID=America/Sao_Paulo:20230727T170000
DTSTAMP:20260421T074214
CREATED:20230704T003335Z
LAST-MODIFIED:20230704T003335Z
UID:148182-1690444800-1690477200@empreendedor.com.br
SUMMARY:Franchise4U Recife
DESCRIPTION:
URL:https://empreendedor.com.br/evento/franchise4u-recife/
LOCATION:Hotel Gran Mercure Recife Boa Viagem\, Recife\, Pernambucano\, Brasil
ATTACH;FMTTYPE=image/jpeg:https://empreendedor.com.br/wp-content/uploads/2023/07/1664810209557.jpg
END:VEVENT
BEGIN:VEVENT
DTSTART;TZID=America/Sao_Paulo:20230727T150000
DTEND;TZID=America/Sao_Paulo:20230727T183000
DTSTAMP:20260421T074214
CREATED:20230704T165929Z
LAST-MODIFIED:20230704T165929Z
UID:148303-1690470000-1690482600@empreendedor.com.br
SUMMARY:Licensing Day: Marcas e Personagens (João Pessoa)
DESCRIPTION:
URL:https://empreendedor.com.br/evento/licensing-day-marcas-e-personagens-joao-pessoa/
LOCATION:Centro de Convenções de João Pessoa\, Rod. PB-008\, Pólo Turístico do Cabo Branco\, João Pessoa-PB\, João Pessoa\, Paraíba\, 58000-000
END:VEVENT
BEGIN:VEVENT
DTSTART;TZID=America/Sao_Paulo:20230729T080000
DTEND;TZID=America/Sao_Paulo:20230729T170000
DTSTAMP:20260421T074214
CREATED:20230628T185932Z
LAST-MODIFIED:20230628T185932Z
UID:147742-1690617600-1690650000@empreendedor.com.br
SUMMARY:The Global Leadership Summit Brasil (Summit Vitória/ES)
DESCRIPTION:
URL:https://empreendedor.com.br/evento/the-global-leadership-summit-brasil-summit-vitoria-es/
LOCATION:Vitória\, Espírito Santo\, Brasil
END:VEVENT
BEGIN:VEVENT
DTSTART;TZID=America/Sao_Paulo:20230729T080000
DTEND;TZID=America/Sao_Paulo:20230731T170000
DTSTAMP:20260421T074214
CREATED:20230630T163548Z
LAST-MODIFIED:20230630T163548Z
UID:147961-1690617600-1690822800@empreendedor.com.br
SUMMARY:Expo Favela Innovation (Expofavela) (Rio de Janeiro)
DESCRIPTION:
URL:https://empreendedor.com.br/evento/expo-favela-innovation-expofavela-rio-de-janeiro/
LOCATION:Rio De Janeiro\, Rio de Janeiro\, Brasil
END:VEVENT
BEGIN:VEVENT
DTSTART;TZID=America/Sao_Paulo:20230729T193000
DTEND;TZID=America/Sao_Paulo:20230729T214500
DTSTAMP:20260421T074214
CREATED:20230704T173635Z
LAST-MODIFIED:20230704T173635Z
UID:148317-1690659000-1690667100@empreendedor.com.br
SUMMARY:Morar EUA (Cuiabá)
DESCRIPTION:
URL:https://empreendedor.com.br/evento/morar-eua-cuiaba/
LOCATION:HOTEL DEVILLE PRIME\, Av. Isaac Póvoas\, 1000 - Centro Norte\, Cuiabá - MT\, Cuiabá\, Mato Grosso\, Brasil
ATTACH;FMTTYPE=image/jpeg:https://empreendedor.com.br/wp-content/uploads/2023/07/352241765_159145987141918_5803160415337305691_n.jpg
END:VEVENT
BEGIN:VEVENT
DTSTART;TZID=America/Sao_Paulo:20230730T080000
DTEND;TZID=America/Sao_Paulo:20230730T170000
DTSTAMP:20260421T074214
CREATED:20230704T181442Z
LAST-MODIFIED:20230704T181442Z
UID:148341-1690704000-1690736400@empreendedor.com.br
SUMMARY:Perifacon (Cidade Tiradentes)
DESCRIPTION:
URL:https://empreendedor.com.br/evento/perifacon-cidade-tiradentes/
LOCATION:Centro de Formação Cultural Cidade Tiradentes\, R. Inácio Monteiro\, 6900 - Jardim São Paulo\, São Paulo - SP\,\, São Paulo\, São Paulo\, 08474-480\, Brasil
END:VEVENT
BEGIN:VEVENT
DTSTART;TZID=America/Sao_Paulo:20230802T080000
DTEND;TZID=America/Sao_Paulo:20230804T170000
DTSTAMP:20260421T074214
CREATED:20230613T202738Z
LAST-MODIFIED:20230613T202738Z
UID:146684-1690963200-1691168400@empreendedor.com.br
SUMMARY:Compliance Across Americas
DESCRIPTION:A Expo Compliance ocorre junto ao Congresso Integra Compliance Across Americas visando entregar ao público uma exposição de produtos e serviços voltada para o segmento da gestão da integridade corporativa. \nO maior e principal evento de ética corporativa do Brasil e das Americas
URL:https://empreendedor.com.br/evento/compliance-across-americas/
LOCATION:Amcham Bussines Center\, R. da Paz\, 1431 - Chácara Santo Antônio (Zona Sul)\, São Paulo - SP\, São Paulo\, São Paulo\, 04713-001\, Brasil
ATTACH;FMTTYPE=image/jpeg:https://empreendedor.com.br/wp-content/uploads/2023/06/evento.jpg
END:VEVENT
BEGIN:VEVENT
DTSTART;TZID=America/Sao_Paulo:20230802T080000
DTEND;TZID=America/Sao_Paulo:20230804T170000
DTSTAMP:20260421T074214
CREATED:20230613T203237Z
LAST-MODIFIED:20230613T203237Z
UID:146689-1690963200-1691168400@empreendedor.com.br
SUMMARY:ExpoCompliance
DESCRIPTION:A Expo Compliance ocorre junto ao Congresso Integra Compliance Across Americas visando entregar ao público uma exposição de produtos e serviços voltada para o segmento da gestão da integridade corporativa. \nO maior e principal evento de ética corporativa do Brasil e das Americas
URL:https://empreendedor.com.br/evento/expocompliance/
LOCATION:Amcham Bussines Center\, R. da Paz\, 1431 - Chácara Santo Antônio (Zona Sul)\, São Paulo - SP\, São Paulo\, São Paulo\, 04713-001\, Brasil
ATTACH;FMTTYPE=image/jpeg:https://empreendedor.com.br/wp-content/uploads/2023/06/evento.jpg
END:VEVENT
BEGIN:VEVENT
DTSTART;TZID=America/Sao_Paulo:20230802T080000
DTEND;TZID=America/Sao_Paulo:20230804T170000
DTSTAMP:20260421T074214
CREATED:20230622T181510Z
LAST-MODIFIED:20230622T181510Z
UID:147397-1690963200-1691168400@empreendedor.com.br
SUMMARY:Compliance Across Americas
DESCRIPTION:A Expo Compliance é a primeira grande Feira de produtos e serviços direcionados a todo o ecossistema de integridade e ética corporativa do Brasil.
URL:https://empreendedor.com.br/evento/compliance-across-americas-2/
LOCATION:Amcham Bussines Center\, R. da Paz\, 1431 - Chácara Santo Antônio (Zona Sul)\, São Paulo - SP\, São Paulo\, São Paulo\, 04713-001\, Brasil
END:VEVENT
BEGIN:VEVENT
DTSTART;TZID=America/Sao_Paulo:20230803T080000
DTEND;TZID=America/Sao_Paulo:20230805T170000
DTSTAMP:20260421T074214
CREATED:20230926T161246Z
LAST-MODIFIED:20230926T161246Z
UID:151764-1691049600-1691254800@empreendedor.com.br
SUMMARY:Weekend CEO
DESCRIPTION:
URL:https://empreendedor.com.br/evento/weekend-ceo/
LOCATION:Hotel Fazenda Parque dos Sonhos\, Socorro\, São Paulo\, Brasil
END:VEVENT
BEGIN:VEVENT
DTSTART;TZID=America/Sao_Paulo:20230804T080000
DTEND;TZID=America/Sao_Paulo:20230805T170000
DTSTAMP:20260421T074214
CREATED:20230613T205655Z
LAST-MODIFIED:20230613T210109Z
UID:146697-1691136000-1691254800@empreendedor.com.br
SUMMARY:Expo Favela Innovation
DESCRIPTION:A Expo Favela chega a Sergipe com sua 1ª edição nos dias 04 e 05 de agosto de 2023 no centro de convenções AM Malls Sergipe. Durante os dois dias acontecerão palestras\, exposições\, apresentações culturais\, entre outras iniciativas criadas pelos moradores das favelas e comunidades.
URL:https://empreendedor.com.br/evento/expo-favela-innovation/
LOCATION:Centro de Convenções AM Malls\, Av. Pres. Tancredo Neves\, 4444 - Inácio Barbosa\, Aracaju - SE\,\, Aracaju\, Sergipe\, 49040-490\, Brasil
END:VEVENT
BEGIN:VEVENT
DTSTART;TZID=America/Sao_Paulo:20230804T080000
DTEND;TZID=America/Sao_Paulo:20230805T170000
DTSTAMP:20260421T074214
CREATED:20230630T174730Z
LAST-MODIFIED:20230630T174730Z
UID:147972-1691136000-1691254800@empreendedor.com.br
SUMMARY:Expo Favela Innovation (Expofavela) (Sergipe)
DESCRIPTION:
URL:https://empreendedor.com.br/evento/expo-favela-innovation-expofavela-sergipe/
LOCATION:Centro de Convenções AM Malls\, Av. Pres. Tancredo Neves\, 4444 - Inácio Barbosa\, Aracaju - SE\,\, Aracaju\, Sergipe\, 49040-490\, Brasil
END:VEVENT
BEGIN:VEVENT
DTSTART;TZID=America/Sao_Paulo:20230804T080000
DTEND;TZID=America/Sao_Paulo:20230806T170000
DTSTAMP:20260421T074214
CREATED:20230613T204706Z
LAST-MODIFIED:20230704T155639Z
UID:146694-1691136000-1691341200@empreendedor.com.br
SUMMARY:Franchising Fair - Feira Nacional de Franquias (Belo Horizonte)
DESCRIPTION:
URL:https://empreendedor.com.br/evento/franchising-fair-feira-nacional-de-franquias/
LOCATION:Boulevard Shopping\, Belo Horizonte\, Minas Gerais\, Brasil
END:VEVENT
BEGIN:VEVENT
DTSTART;TZID=America/Sao_Paulo:20230804T100000
DTEND;TZID=America/Sao_Paulo:20230806T180000
DTSTAMP:20260421T074214
CREATED:20230613T204131Z
LAST-MODIFIED:20230613T204131Z
UID:146691-1691143200-1691344800@empreendedor.com.br
SUMMARY:WA Wide Awake
DESCRIPTION:WA Wide Awake: A sua transformação acontecerá durante o treinamento! \nEvento online
URL:https://empreendedor.com.br/evento/wa-wide-awake/
LOCATION:Rio Grande do Sul
ATTACH;FMTTYPE=image/png:https://empreendedor.com.br/wp-content/uploads/2023/06/ebf14367-6044-4495-af6f-e090410bde3b_mq.png
END:VEVENT
BEGIN:VEVENT
DTSTART;VALUE=DATE:20230805
DTEND;VALUE=DATE:20230806
DTSTAMP:20260421T074214
CREATED:20230622T162058Z
LAST-MODIFIED:20230622T162058Z
UID:147368-1691193600-1691279999@empreendedor.com.br
SUMMARY:Encontro da Imprensa Catarinense
DESCRIPTION:A 14º edição do Encontro da Imprensa Catarinense está confirmada para o dia 05 de agosto deste ano\, em Chapecó. O anúncio foi feito pela Associação Catarinense de Imprensa (ACI). \nO Encontro reunirá cerca de 550 profissionais de comunicação de todo Estado e consistirá de solenidade com homenagens\, palestras e almoço de confraternização\, entre outras atividades.
URL:https://empreendedor.com.br/evento/encontro-da-imprensa-catarinense/
LOCATION:CDL Chapecó\, Chapecó\, Santa Catarina\, Brasil
END:VEVENT
BEGIN:VEVENT
DTSTART;TZID=America/Sao_Paulo:20230805T080000
DTEND;TZID=America/Sao_Paulo:20230805T170000
DTSTAMP:20260421T074214
CREATED:20230704T190353Z
LAST-MODIFIED:20230704T190353Z
UID:148400-1691222400-1691254800@empreendedor.com.br
SUMMARY:Reload 2023 (Patos de Minas)
DESCRIPTION:
URL:https://empreendedor.com.br/evento/reload-2023-patos-de-minas/
LOCATION:Patos de Minas\, Patos de Minas\, Minas Gerais\, Brasil
END:VEVENT
BEGIN:VEVENT
DTSTART;TZID=America/Sao_Paulo:20230808T083000
DTEND;TZID=America/Sao_Paulo:20230808T210000
DTSTAMP:20260421T074214
CREATED:20230704T151818Z
LAST-MODIFIED:20230704T151818Z
UID:148203-1691483400-1691528400@empreendedor.com.br
SUMMARY:Franchise B2B (Campinas)
DESCRIPTION:Uma feira de franquias para você aprender e empreender! \nEntrada 2kg de alimentos não perecíveis
URL:https://empreendedor.com.br/evento/franchise-b2b-campinas/
LOCATION:Vitória Hotel Concept Campinas\, AV. J. DE SOUZA CAMPOS\, 425 - N. CAMPINAS\, Campinas\, São Paulo\, Brasil
END:VEVENT
BEGIN:VEVENT
DTSTART;TZID=America/Sao_Paulo:20230808T090000
DTEND;TZID=America/Sao_Paulo:20230810T180000
DTSTAMP:20260421T074214
CREATED:20230626T162417Z
LAST-MODIFIED:20230626T162417Z
UID:147454-1691485200-1691690400@empreendedor.com.br
SUMMARY:CONARH
DESCRIPTION:Venha viver uma grande imersão sobre este universo no CONARH 2023\, um dos maiores eventos de Gestão de Pessoas do mundo\, que terá palestras\, workshops e debates sobre os mais diversos temas relacionados à pluralidade\, diversidade\, carreira\, gestão de desempenho\, novas ferramentas digitais\, inclusão e tudo o que impacta as organizações e as pessoas.
URL:https://empreendedor.com.br/evento/conarh/
LOCATION:Expo Exhibition & Convention Center\, Rod. dos Imigrantes\, s/n - km1.5 - Vila Água Funda\, São Paulo - SP\,\, São Paulo\, São Paulo\, 04329-900\, Brasil
END:VEVENT
BEGIN:VEVENT
DTSTART;TZID=America/Sao_Paulo:20230808T090000
DTEND;TZID=America/Sao_Paulo:20230810T200000
DTSTAMP:20260421T074214
CREATED:20230627T180740Z
LAST-MODIFIED:20230627T180740Z
UID:147589-1691485200-1691697600@empreendedor.com.br
SUMMARY:EXPO ABRH
DESCRIPTION:Venha viver uma grande imersão sobre este universo no CONARH 2023\, um dos maiores eventos de Gestão de Pessoas do mundo\, que terá palestras\, workshops e debates sobre os mais diversos temas relacionados à pluralidade\, diversidade\, carreira\, gestão de desempenho\, novas ferramentas digitais\, inclusão e tudo o que impacta as organizações e as pessoas.
URL:https://empreendedor.com.br/evento/expo-abrh/
LOCATION:São Paulo Expo Exhibition & Convention Center\, São Paulo\, São Paulo\, Brasil
ATTACH;FMTTYPE=image/png:https://empreendedor.com.br/wp-content/uploads/2023/06/banner_1800x550_CONARH2023.png
END:VEVENT
BEGIN:VEVENT
DTSTART;TZID=America/Sao_Paulo:20230809T080000
DTEND;TZID=America/Sao_Paulo:20230809T170000
DTSTAMP:20260421T074214
CREATED:20230704T182749Z
LAST-MODIFIED:20230704T182749Z
UID:148356-1691568000-1691600400@empreendedor.com.br
SUMMARY:Planet Franchise João Pessoa (Digital / Agosto)
DESCRIPTION:
URL:https://empreendedor.com.br/evento/planet-franchise-joao-pessoa-digital-agosto/
LOCATION:Online\, São Paulo\, São Paulo\, Brazil
END:VEVENT
BEGIN:VEVENT
DTSTART;TZID=America/Sao_Paulo:20230809T080000
DTEND;TZID=America/Sao_Paulo:20230809T170000
DTSTAMP:20260421T074214
CREATED:20230705T153621Z
LAST-MODIFIED:20230705T153621Z
UID:148462-1691568000-1691600400@empreendedor.com.br
SUMMARY:Superlógica Next 2023 (Rio de Janeiro)
DESCRIPTION:
URL:https://empreendedor.com.br/evento/superlogica-next-2023-rio-de-janeiro/
LOCATION:Rio De Janeiro\, Rio de Janeiro\, Brasil
END:VEVENT
END:VCALENDAR